BEGIN:VCALENDAR
VERSION:2.0
PRODID:-//ChamberMaster//Event Calendar 2.0//EN
METHOD:PUBLISH
X-PUBLISHED-TTL:P3D
REFRESH-INTERVAL:P3D
CALSCALE:GREGORIAN
BEGIN:VEVENT
DTSTART:20171117T140000Z
DTEND:20171118T010000Z
X-MICROSOFT-CDO-ALLDAYEVENT:FALSE
SUMMARY:Large Estate Sale at Green Valley Auctions
DESCRIPTION:Large Estate Sale at Green Valley Auctions\n\nFeaturing good quality used furniture\, fridge\, frontload washer\, sterling flatware\, Wedgwood Jasperware\, Royal Doulton\, P. Buckley Moss prints\, Thomas Kinkade print\, Longaberger baskets\, Bose speakers\, Onkyo & Harmon Kardon stereo components\, HO trains\, die cast including farm tractors\, walnut cupboard top\, farm table\, like new all-weather wicker set\, tools\, good household\, Plus much more.\n\nCome eat lunch in the Our Daily Bread Caf  during Auction Preview\n\non Thursday\, November 16 from 11:00 - 4:00!
X-ALT-DESC;FMTTYPE=text/html:<h1 style="text-align:center"><br />\n<span style="font-family:verdana">Large Estate Sale at Green Valley Auctions</span></h1>\n\n<p>Featuring good quality used furniture\, fridge\, frontload washer\, sterling flatware\, Wedgwood Jasperware\, Royal Doulton\, P. Buckley Moss prints\, Thomas Kinkade print\, Longaberger baskets\, Bose speakers\, Onkyo &amp\; Harmon Kardon stereo components\, HO trains\, die cast including farm tractors\, walnut cupboard top\, farm table\, like new all-weather wicker set\, tools\, good household\, Plus much more.</p>\n\n<p style="text-align:center"><strong>Come eat lunch in the Our Daily Bread Caf&eacute\; during Auction Preview<br />\non Thursday\, November 16 from 11:00 - 4:00!&nbsp\;</strong></p>\n
LOCATION:Green Valley Auctions 2259 Green Valley Ln Mt. Crawford\, VA 22841
UID:e.2338.3319
SEQUENCE:3
DTSTAMP:20260420T042453Z
URL:https://chamber.hrchamber.org/events/details/large-estate-sale-at-green-valley-auctions-11-17-2017-3319
END:VEVENT

END:VCALENDAR
