BEGIN:VCALENDAR
VERSION:2.0
PRODID:-//ChamberMaster//Event Calendar 2.0//EN
METHOD:PUBLISH
X-PUBLISHED-TTL:P3D
REFRESH-INTERVAL:P3D
CALSCALE:GREGORIAN
BEGIN:VEVENT
DTSTART:20171103T130000Z
DTEND:20171104T000000Z
X-MICROSOFT-CDO-ALLDAYEVENT:FALSE
SUMMARY:Large Antique Estate Auction at Green Valley Auctions
DESCRIPTION:Large antique estate auction featuring antique furniture\, decorated stoneware and country accessories\, EAPG\, Country Store and gasoline-related pieces\, Griswold\, railroad lanterns and locks\, arrowheads\, lot antique toys\, primitives\, and much more.\n\n\n\nFind a detailed listing and photographs on our website\, and follow us on Facebook for updates\, video previews\, and more!\n\n\n\nOur Daily Bread Caf  now serves lunch during Auction Preview from 11-4 on November 3!
X-ALT-DESC;FMTTYPE=text/html:<span style="font-size:14px">Large antique estate auction featuring antique furniture\, decorated stoneware and country accessories\, EAPG\, Country Store and gasoline-related pieces\, Griswold\, railroad lanterns and locks\, arrowheads\, lot antique toys\, primitives\, and much more.</span><br />\n<br />\nFind a detailed listing and photographs on <a href="http://www.greenvalleyauctions.com/auction-calendar/">our website</a>\, and <a href="https://www.facebook.com/greenvalleyauctions/">follow us on Facebook</a> for updates\, video previews\, and more!<br />\n<br />\n<em>Our Daily Bread Caf&eacute\;</em> now serves lunch during Auction Preview from 11-4 on November 3!&nbsp\;
LOCATION:Green Valley Auctions 2259 Green Valley Lane Mt. Crawford\, VA 22841
UID:e.2338.3304
SEQUENCE:3
DTSTAMP:20260420T042346Z
URL:https://chamber.hrchamber.org/events/details/large-antique-estate-auction-at-green-valley-auctions-3304
END:VEVENT

END:VCALENDAR
