BEGIN:VCALENDAR
VERSION:2.0
PRODID:-//ChamberMaster//Event Calendar 2.0//EN
METHOD:PUBLISH
X-PUBLISHED-TTL:P3D
REFRESH-INTERVAL:P3D
CALSCALE:GREGORIAN
BEGIN:VEVENT
DTSTART:20150803T150000Z
DTEND:20150803T210000Z
X-MICROSOFT-CDO-ALLDAYEVENT:FALSE
SUMMARY:Kline's Ice Cream Promotion with Stoney Run Artisans Gallery
DESCRIPTION:First 25 visitors to our Gallery will receive a certificate for free ice cream at Kline's Dairy Bar!
X-ALT-DESC;FMTTYPE=text/html:First 25 visitors to our Gallery will receive a certificate for free ice cream at Kline&#39\;s Dairy Bar!
LOCATION:Stoney Run Artisans Gallery\, 9945 McGaheysville Rd\, McGaheysville VA 22840
UID:e.2338.280
SEQUENCE:3
DTSTAMP:20260424T175206Z
URL:https://chamber.hrchamber.org/events/details/kline-s-ice-cream-promotion-with-stoney-run-artisans-gallery-08-03-2015-280
END:VEVENT

END:VCALENDAR
