BEGIN:VCALENDAR
VERSION:2.0
PRODID:-//ChamberMaster//Event Calendar 2.0//EN
METHOD:PUBLISH
X-PUBLISHED-TTL:P3D
REFRESH-INTERVAL:P3D
CALSCALE:GREGORIAN
BEGIN:VEVENT
DTSTART:20181103T120000Z
DTEND:20181103T150000Z
X-MICROSOFT-CDO-ALLDAYEVENT:FALSE
SUMMARY:Kiwanis and Boys & Girls Clubs of Harrisonburg and Rockingham County Pancake Day
DESCRIPTION:Annual Fall Pancake Breakfast\n\nSaturday November 3 8-11 a.m. @ Lucy Simms Center\n\n\n\n\n\nAll you can eat pancakes\, sausages\, juice\, coffee and milk\n\n \nBenefits Kiwanis Servicd Leadership Programs and Boys & Girls Clubs of Harrisonburg and Rockingham County
X-ALT-DESC;FMTTYPE=text/html:Annual Fall Pancake Breakfast<br />\nSaturday November 3 8-11 a.m. @ Lucy Simms Center<br />\n<br />\n<br />\nAll you can eat pancakes\, sausages\, juice\, coffee and milk<br />\n&nbsp\;\n<div style="text-align:center">Benefits Kiwanis Servicd Leadership Programs and Boys &amp\; Girls Clubs of Harrisonburg and Rockingham County</div>\n
LOCATION:620 Simms Avenue Luc Simms Center
UID:e.2338.6084
SEQUENCE:3
DTSTAMP:20260420T075334Z
URL:https://chamber.hrchamber.org/events/details/kiwanis-and-boys-girls-clubs-of-harrisonburg-and-rockingham-county-pancake-day-6084
END:VEVENT

END:VCALENDAR
