BEGIN:VCALENDAR
VERSION:2.0
PRODID:-//ChamberMaster//Event Calendar 2.0//EN
METHOD:PUBLISH
X-PUBLISHED-TTL:P3D
REFRESH-INTERVAL:P3D
CALSCALE:GREGORIAN
BEGIN:VEVENT
DTSTART:20170824T223000Z
DTEND:20170825T010000Z
X-MICROSOFT-CDO-ALLDAYEVENT:FALSE
SUMMARY:Kingsway's Fund Raising Banquet
DESCRIPTION:This is a Fund Raising Event to raise funds for Reentry - to help those attempting to re enter society and become good tax paying citizens. Dinner will be provided by Bridgewater UMC followed by a Doll Auction and a concert with Southern Grace proforming. Please RSVP to kingswayoutreach@hotmail.com or call 540-830-7000  If you can't make it to dinner come join us for the concert.  A free will offering will be accepted.  If you can't come please consider a  making a donation. It will be tax deductible. Kingsway is a 501 c 3 organization with volunteers and no payroll and has had an office in Harrisonburg since 1984.
X-ALT-DESC;FMTTYPE=text/html:This is a Fund Raising Event to raise funds for Reentry - to help those attempting to re enter society and become good tax paying citizens. Dinner will be provided by Bridgewater UMC followed by a Doll Auction and a concert with Southern Grace proforming. Please RSVP to kingswayoutreach@hotmail.com or call 540-830-7000 &nbsp\;If you can&#39\;t make it to dinner come join us for the concert. &nbsp\;A free will offering will be accepted. &nbsp\;If you can&#39\;t come please consider a &nbsp\;making a donation. It will be tax deductible. Kingsway is a 501 c 3 organization with volunteers and no payroll and has had an office in Harrisonburg since 1984.
LOCATION:Located at Bridgewater United Methodist Church\, 219 N. Main St.\, Bridgewater\, VA
UID:e.2338.3222
SEQUENCE:3
DTSTAMP:20260419T234520Z
URL:https://chamber.hrchamber.org/events/details/kingsway-s-fund-raising-banquet-3222
END:VEVENT

END:VCALENDAR
