BEGIN:VCALENDAR
VERSION:2.0
PRODID:-//ChamberMaster//Event Calendar 2.0//EN
METHOD:PUBLISH
X-PUBLISHED-TTL:P3D
REFRESH-INTERVAL:P3D
CALSCALE:GREGORIAN
BEGIN:VEVENT
DTSTART:20180310T230000Z
DTEND:20180311T010000Z
X-MICROSOFT-CDO-ALLDAYEVENT:FALSE
SUMMARY:Kingsway Outreach Celebrating 35 years
DESCRIPTION:Kingsway Outreach is celebrating 35 years! Join us to celebrate with a concert by Southern Grace at 6 pm.\n \n\nFood will be available at 5pm. \n\n \n\nMarch 10th\n\nBethany UMC\, 3700 Lee Highway Rt. 11\, Weyers\, VA \n\n \n\nFor info call 540-830-7000 or email kingswayoutreach@hotmail.com
X-ALT-DESC;FMTTYPE=text/html:<span style="font-family:arial\,sans-serif\;"><span style="font-size:10.0pt\;">Kingsway Outreach is celebrating 35 years! Join us to celebrate with&nbsp\;a concert by Southern Grace at 6 pm.</span></span>\n<div>&nbsp\;</div>\n\n<div><span style="font-family:arial\,sans-serif\;"><span style="font-size:13.3333px\;">Food will be available at 5pm.&nbsp\;</span></span>\n\n<div>&nbsp\;</div>\n\n<div><span style="font-family:arial\,sans-serif\;"><span style="font-size:10.0pt\;">March 10th</span></span></div>\n\n<div><span style="font-family:arial\,sans-serif\;"><span style="font-size:10.0pt\;">Bethany UMC\, 3700 Lee Highway Rt. 11\, Weyers\, VA&nbsp\;</span></span></div>\n\n<div>&nbsp\;</div>\n\n<div><span style="font-family:arial\,sans-serif\;"><span style="font-size:10.0pt\;">For info call 540-830-7000 or email <a href="mailto:kingswayoutreach@hotmail.com">kingswayoutreach@hotmail.com</a></span></span></div>\n</div>\n
LOCATION:
UID:e.2338.3722
SEQUENCE:3
DTSTAMP:20260420T101001Z
URL:https://chamber.hrchamber.org/events/details/kingsway-outreach-celebrating-35-years-3722
END:VEVENT

END:VCALENDAR
