BEGIN:VCALENDAR
VERSION:2.0
PRODID:-//ChamberMaster//Event Calendar 2.0//EN
METHOD:PUBLISH
X-PUBLISHED-TTL:P3D
REFRESH-INTERVAL:P3D
CALSCALE:GREGORIAN
BEGIN:VEVENT
DTSTART:20160514T170000Z
DTEND:20160514T210000Z
X-MICROSOFT-CDO-ALLDAYEVENT:FALSE
SUMMARY:Kingsway Outreach Benefit
DESCRIPTION:A Kingsway Prison and Family Outreach Benefit featuring Emcee Dashing Dave\, Live Music\, Hot Dogs\, Strites Donuts\, Drinks and a Raffle Drawing for a Pedestal Fan and Hand Painted Oil Painting valued at $240.00. All proceeds go towards re-entry.
X-ALT-DESC;FMTTYPE=text/html:A Kingsway Prison and Family Outreach Benefit featuring Emcee Dashing Dave\, Live Music\, Hot Dogs\, Strites Donuts\, Drinks and a Raffle Drawing for a Pedestal Fan and Hand Painted Oil Painting valued at $240.00. All proceeds go towards re-entry.
LOCATION:Ray of Hope Church\, 1450 Reservoir Street\, Harrisonburg\, VA 22801
UID:e.2338.394
SEQUENCE:3
DTSTAMP:20260422T045133Z
URL:https://chamber.hrchamber.org/events/details/kingsway-outreach-benefit-05-14-2016-394
END:VEVENT

END:VCALENDAR
