BEGIN:VCALENDAR
VERSION:2.0
PRODID:-//ChamberMaster//Event Calendar 2.0//EN
METHOD:PUBLISH
X-PUBLISHED-TTL:P3D
REFRESH-INTERVAL:P3D
CALSCALE:GREGORIAN
BEGIN:VEVENT
DTSTART:20160328T180000Z
DTEND:20160328T200000Z
X-MICROSOFT-CDO-ALLDAYEVENT:FALSE
SUMMARY:Keva Plank Building @ Central Library
DESCRIPTION:Create and build with Keva planks.
X-ALT-DESC;FMTTYPE=text/html:Create and build with Keva planks.
LOCATION:Central Library
UID:e.2338.369
SEQUENCE:3
DTSTAMP:20260422T080128Z
URL:https://chamber.hrchamber.org/events/details/keva-plank-building-central-library-03-28-2016-369
END:VEVENT

END:VCALENDAR
