BEGIN:VCALENDAR
VERSION:2.0
PRODID:-//ChamberMaster//Event Calendar 2.0//EN
METHOD:PUBLISH
X-PUBLISHED-TTL:P3D
REFRESH-INTERVAL:P3D
CALSCALE:GREGORIAN
BEGIN:VEVENT
DTSTART:20170827T230000Z
DTEND:20170828T010000Z
X-MICROSOFT-CDO-ALLDAYEVENT:FALSE
SUMMARY:Junior Sisk & Rambler's Choice
DESCRIPTION:With The Mountains Are Calling Me Home\, their seventh album overall and second for Mountain Fever Records\, Junior Sisk & Ramblers Choice have delivered a textbook example of today's traditional bluegrass. From the biting humor and catchy melody of the lead single "What Goes Around" to the hard-driving banjo and hard-edged vocals of "It's So Cold\," the multi-award winning group never lets up. The band's accolades include an IBMA Album of the Year award for Heart of a Song\, recognition in 2014 as SPBGMA Bluegrass Band of the Year\, and most recently\, receiving IBMA's 2016 Recorded Event of the Year award for their collaboration with noted singer-songwriter Ronnie Bowman on "Longneck Blues."
X-ALT-DESC;FMTTYPE=text/html:With The Mountains Are Calling Me Home\, their seventh album overall and second for Mountain Fever Records\, Junior Sisk &amp\; Ramblers Choice have delivered a textbook example of today&#39\;s traditional bluegrass. From the biting humor and catchy melody of the lead single &quot\;What Goes Around&quot\; to the hard-driving banjo and hard-edged vocals of &quot\;It&#39\;s So Cold\,&quot\; the multi-award winning group never lets up. The band&#39\;s accolades include an IBMA Album of the Year award for Heart of a Song\, recognition in 2014 as SPBGMA Bluegrass Band of the Year\, and most recently\, receiving IBMA&#39\;s 2016 Recorded Event of the Year award for their collaboration with noted singer-songwriter Ronnie Bowman on &quot\;Longneck Blues.&quot\;
LOCATION:Court Square Theater 41-F Court Square Harrisonburg\, VA 22801
UID:e.2338.3151
SEQUENCE:3
DTSTAMP:20260419T234218Z
URL:https://chamber.hrchamber.org/events/details/junior-sisk-rambler-s-choice-3151
END:VEVENT

END:VCALENDAR
