BEGIN:VCALENDAR
VERSION:2.0
PRODID:-//ChamberMaster//Event Calendar 2.0//EN
METHOD:PUBLISH
X-PUBLISHED-TTL:P3D
REFRESH-INTERVAL:P3D
CALSCALE:GREGORIAN
BEGIN:VEVENT
DTSTART:20190629T220000Z
DTEND:20190630T020000Z
X-MICROSOFT-CDO-ALLDAYEVENT:FALSE
SUMMARY:June Pop -Up Dinner
DESCRIPTION:Join us for our monthly multi-course pop-up dinner. Chef Seth showcases his extensive range of skills\, techniques\, and ingenuity\, with carefully designed menus and exceptional ingredients that make for a uniquely memorable culinary experience. Wine is provided by Williams Corner Wine\, an importer that specializes in wines made from hand picked grapes\, fermented using natural yeasts\, and produced without acidification or other additives. Wine pairing is optional.
X-ALT-DESC;FMTTYPE=text/html:<p><span style="color:rgba(0\, 0\, 0\, 0.67)\; font-family:brandon-grotesque\; font-size:20px">Join us for our monthly multi-course pop-up dinner. Chef Seth showcases his extensive range of skills\, techniques\, and ingenuity\, with carefully designed menus and exceptional ingredients that make for a uniquely memorable culinary experience. Wine is provided by Williams Corner Wine\, an importer that specializes in wines made from hand picked grapes\, fermented using natural yeasts\, and produced without acidification or other additives.&nbsp\;Wine pairing is optional.&nbsp\;</span></p>\n
LOCATION:1311 South High St Harrisonburg Virginia 22801
UID:e.2338.6634
SEQUENCE:3
DTSTAMP:20260419T211001Z
URL:https://chamber.hrchamber.org/events/details/june-pop-up-dinner-6634
END:VEVENT

END:VCALENDAR
