BEGIN:VCALENDAR
VERSION:2.0
PRODID:-//ChamberMaster//Event Calendar 2.0//EN
METHOD:PUBLISH
X-PUBLISHED-TTL:P3D
REFRESH-INTERVAL:P3D
CALSCALE:GREGORIAN
BEGIN:VEVENT
DTSTART:20190516T230000Z
DTEND:20190517T003000Z
X-MICROSOFT-CDO-ALLDAYEVENT:FALSE
SUMMARY:John C. Frémont in Rockingham: A Third Thursday Talk at The Heritage Museum
DESCRIPTION:May 16\, 7pm: For the May Third Thursday Talk\, The Heritage Museum presents "The Most Romantic Man In America: John C. Fr mont in Rockingham County." John C. Fr mont was an American original. Explorer. General. Presidential candidate. Fr mont's story will be told by Bill Miller\, historian and battlefield guide. Share the event and bring your friends and family.\n \n\nhttps://www.facebook.com/events/380717172517065/
X-ALT-DESC;FMTTYPE=text/html:<span style="background-color:rgb(255\, 255\, 255)\; color:rgb(29\, 33\, 41)\; font-family:system-ui\,-apple-system\,blinkmacsystemfont\,.sfnstext-regular\,sans-serif\; font-size:14px">May 16\, 7pm: For the May Third Thursday Talk\, The Heritage Museum presents &quot\;The Most Romantic Man In America: John C. Fr&eacute\;mont in Rockingham County.&quot\; John C. Fr&eacute\;mont was an American original. Explorer. General. Presidential candidate. Fr&eacute\;mont&#39\;s story will be told by Bill Miller\, historian and battlefield guide. Share the event and bring your friends and family.</span>\n<div>&nbsp\;</div>\n\n<div><a href="https://www.facebook.com/events/380717172517065/">https://www.facebook.com/events/380717172517065/</a></div>\n
LOCATION:The Heritage Museum 382 High Street Dayton\, VA 22821
UID:e.2338.6588
SEQUENCE:3
DTSTAMP:20260419T224945Z
URL:https://chamber.hrchamber.org/events/details/john-c-fr&#233;mont-in-rockingham-a-third-thursday-talk-at-the-heritage-museum-6588
END:VEVENT

END:VCALENDAR
