BEGIN:VCALENDAR
VERSION:2.0
PRODID:-//ChamberMaster//Event Calendar 2.0//EN
METHOD:PUBLISH
X-PUBLISHED-TTL:P3D
REFRESH-INTERVAL:P3D
CALSCALE:GREGORIAN
BEGIN:VEVENT
DTSTART:20171110T230000Z
DTEND:20171111T000000Z
X-MICROSOFT-CDO-ALLDAYEVENT:FALSE
SUMMARY:JMU Student Entrepreneur Showcase
DESCRIPTION:Please join JMU First Lady Mary Ann Alger\, Provost Coltman\, Dean Mary Gowan\, the Board of Visitors\, and professors from every college in celebrating the accomplishments of the JMU student entrepreneurs from our inaugural Venture Creation Accelerator program.\n\nJoin us to celebrate the accomplishments of JMU student entrepreneurs. Fifteen student fellows spent the summer developing their businesses with workspace\, mentorship\, entrepreneurship instruction\, and funding opportunities provided by the CFE. By the end of the program\, each venture gained real-life traction with customers and revenue\, and the fellows swept Georgetown University's Accelerator Program in the inaugural Bulldog Cup Pitchoff. Come hear the winning pitches on 11/10 at JMU Engineering and Geosciences building in room 2301.\n\nIf you would like reserved seating in the front of auditorium\, please contact payntesa@jmu.edu.
X-ALT-DESC;FMTTYPE=text/html:<p>Please join JMU First Lady Mary Ann Alger\, Provost Coltman\, Dean Mary Gowan\, the Board of Visitors\, and professors from every college in celebrating the accomplishments of the JMU student entrepreneurs from our inaugural Venture Creation Accelerator program.</p>\n\n<p>Join us to celebrate the accomplishments of JMU student entrepreneurs. Fifteen student fellows spent the summer developing their businesses with workspace\, mentorship\, entrepreneurship instruction\, and funding opportunities provided by the CFE. By the end of the program\, each venture gained real-life traction with customers and revenue\, and the fellows swept Georgetown University&#39\;s Accelerator Program in the inaugural Bulldog Cup Pitchoff. Come hear the winning pitches on 11/10 at&nbsp\;<strong>JMU Engineering and Geosciences building in room 2301</strong>.</p>\n\n<p>If you would like reserved seating in the front of auditorium\, please contact payntesa@jmu.edu.</p>\n
LOCATION:James Madison University Engineering and Biosciences Building\, Room 2301 801 Carrier Drive Harrisonburg\, VA 22807
UID:e.2338.3281
SEQUENCE:3
DTSTAMP:20260420T054317Z
URL:https://chamber.hrchamber.org/events/details/jmu-student-entrepreneur-showcase-3281
END:VEVENT

END:VCALENDAR
