BEGIN:VCALENDAR
VERSION:2.0
PRODID:-//ChamberMaster//Event Calendar 2.0//EN
METHOD:PUBLISH
X-PUBLISHED-TTL:P3D
REFRESH-INTERVAL:P3D
CALSCALE:GREGORIAN
BEGIN:VEVENT
DTSTART:20170907T210000Z
DTEND:20170907T230000Z
X-MICROSOFT-CDO-ALLDAYEVENT:FALSE
SUMMARY:JMU MBA Program BAH Event RSVP
DESCRIPTION:JMU MBA Program Business After Hours
X-ALT-DESC;FMTTYPE=text/html:JMU MBA Program Business After Hours
LOCATION:JMU Ice House\, Room 117 127 West Water Street Harrisonburg\, VA 22807
UID:e.2338.1530
SEQUENCE:3
DTSTAMP:20260420T011020Z
URL:https://chamber.hrchamber.org/events/details/jmu-mba-program-bah-event-rsvp-1530
END:VEVENT

END:VCALENDAR
