BEGIN:VCALENDAR
VERSION:2.0
PRODID:-//ChamberMaster//Event Calendar 2.0//EN
METHOD:PUBLISH
X-PUBLISHED-TTL:P3D
REFRESH-INTERVAL:P3D
CALSCALE:GREGORIAN
BEGIN:VEVENT
DTSTART:20181024T133000Z
DTEND:20181024T223000Z
X-MICROSOFT-CDO-ALLDAYEVENT:FALSE
SUMMARY:JMU Homecoming Blood Drive
DESCRIPTION:JMU's Homecoming Blood Drive\, sponsored by Kappa Alpha Order and Zeta Tau Alpha\, is on Wednesday\, October 24 from 9:30 am to 7:30 pm at Madison Union Room 256. Walk-ins are welcome\, but appointments are encouraged. To secure your spot\, visit https://donateblood.vablood.org.
X-ALT-DESC;FMTTYPE=text/html:JMU&rsquo\;s Homecoming Blood Drive\, sponsored by Kappa Alpha Order and Zeta Tau Alpha\, is on Wednesday\, October 24 from 9:30 am to 7:30 pm at Madison Union Room 256. Walk-ins are welcome\, but appointments are encouraged.&nbsp\;To secure your spot\, visit <a href="https://donateblood.vablood.org/">https://donateblood.vablood.org</a>.
LOCATION:JMU Madison Union Rom 256 170 Bluestone Drive Harrisonburg VA 22807
UID:e.2338.6042
SEQUENCE:3
DTSTAMP:20260420T091238Z
URL:https://chamber.hrchamber.org/events/details/jmu-homecoming-blood-drive-6042
END:VEVENT

END:VCALENDAR
