BEGIN:VCALENDAR
VERSION:2.0
PRODID:-//ChamberMaster//Event Calendar 2.0//EN
METHOD:PUBLISH
X-PUBLISHED-TTL:P3D
REFRESH-INTERVAL:P3D
CALSCALE:GREGORIAN
BEGIN:VEVENT
DTSTART:20160311T000000Z
DTEND:20160311T010000Z
X-MICROSOFT-CDO-ALLDAYEVENT:FALSE
SUMMARY:JMU & Health Tech Petting Zoo @ Central Library
DESCRIPTION:JMU Librarian will hold mini classes on Health Services resources on various devices provided by a grant through JMU Carrier Library.
X-ALT-DESC;FMTTYPE=text/html:JMU Librarian will hold mini classes on Health Services resources on various devices provided by a grant through JMU Carrier Library.
LOCATION:Central Library\, 174 S. Main Street\, Harrisonburg
UID:e.2338.343
SEQUENCE:3
DTSTAMP:20260422T080501Z
URL:https://chamber.hrchamber.org/events/details/jmu-health-tech-petting-zoo-central-library-03-10-2016-343
END:VEVENT

END:VCALENDAR
