BEGIN:VCALENDAR
VERSION:2.0
PRODID:-//ChamberMaster//Event Calendar 2.0//EN
METHOD:PUBLISH
X-PUBLISHED-TTL:P3D
REFRESH-INTERVAL:P3D
CALSCALE:GREGORIAN
BEGIN:VEVENT
DTSTART:20170511T140000Z
DTEND:20170511T180000Z
X-MICROSOFT-CDO-ALLDAYEVENT:FALSE
SUMMARY:JMU Employee Appreciation Day Blood Drive
DESCRIPTION:In conjunction with its Employee Appreciation Day\, JMU is hosting a Blood Drive in Festival's Allegheny Room on Thursday\, May 11th\, from 10 am to 2 pm. Walk-ups are welcome\, but appointments are encouraged. To secure your spot\, visit https://donateblood.vablood.org. Blood supplies are critical across the country   please do your part to help save lives!
X-ALT-DESC;FMTTYPE=text/html:In conjunction with its Employee Appreciation Day\, JMU is hosting a Blood Drive in Festival&rsquo\;s Allegheny Room on Thursday\, May 11th\, from 10 am to 2 pm. Walk-ups are welcome\, but appointments are encouraged. To secure your spot\, visit https://donateblood.vablood.org. Blood supplies are critical across the country &ndash\; please do your part to help save lives!
LOCATION:JMU Festival Center 1301 Carrier Drive Harrisonburg\, VA
UID:e.2338.2677
SEQUENCE:3
DTSTAMP:20260419T192121Z
URL:https://chamber.hrchamber.org/events/details/jmu-employee-appreciation-day-blood-drive-2677
END:VEVENT

END:VCALENDAR
