BEGIN:VCALENDAR
VERSION:2.0
PRODID:-//ChamberMaster//Event Calendar 2.0//EN
METHOD:PUBLISH
X-PUBLISHED-TTL:P3D
REFRESH-INTERVAL:P3D
CALSCALE:GREGORIAN
BEGIN:VEVENT
DTSTART;VALUE=DATE:20160429
DTEND;VALUE=DATE:20160430
TRANSP:TRANSPARENT
X-MICROSOFT-CDO-ALLDAYEVENT:TRUE
SUMMARY:JMU Duke Club Golf Classic
DESCRIPTION:The James Madison University Duke Club\, the official fundraising arm for JMU Athletics\, invites you to the 2016 Duke Club Golf Classic. This annual event has become a signature event for the Duke Club and last year raised $15\,000 for student-athlete scholarships and the general operating budget. This year's event will feature a morning flight at 8:00 a.m. and afternoon flight at 1:30 p.m. with a shotgun start. Cost to play in the Duke Club Golf Classic is $150/person. Registration includes a round of golf\, unlimited beverages\, pre- and post-flight hospitality\, awards ceremony\, and an exclusive JMU registration gift. The Value Pack option is available for purchase at $35/person and includes two mulligans\, one powerball\, one putting contest\, and one challenge contest. Flight preferences will be filled on a first-come\, first-served basis. Register today!
X-ALT-DESC;FMTTYPE=text/html:The James Madison University Duke Club\, the official fundraising arm for JMU Athletics\, invites you to the 2016 Duke Club Golf Classic. This annual event has become a signature event for the Duke Club and last year raised $15\,000 for student-athlete scholarships and the general operating budget. This year&#39\;s event will feature a morning flight at 8:00 a.m. and afternoon flight at 1:30 p.m. with a shotgun start. Cost to play in the Duke Club Golf Classic is $150/person. Registration includes a round of golf\, unlimited beverages\, pre- and post-flight hospitality\, awards ceremony\, and an exclusive JMU registration gift. The Value Pack option is available for purchase at $35/person and includes two mulligans\, one powerball\, one putting contest\, and one challenge contest. Flight preferences will be filled on a first-come\, first-served basis. Register today!
LOCATION:Spotswood Country Club\, Harrisonburg\, VA
UID:e.2338.361
SEQUENCE:3
DTSTAMP:20260422T062255Z
URL:https://chamber.hrchamber.org/events/details/jmu-duke-club-golf-classic-04-29-2016-361
END:VEVENT

END:VCALENDAR
