BEGIN:VCALENDAR
VERSION:2.0
PRODID:-//ChamberMaster//Event Calendar 2.0//EN
METHOD:PUBLISH
X-PUBLISHED-TTL:P3D
REFRESH-INTERVAL:P3D
CALSCALE:GREGORIAN
BEGIN:VEVENT
DTSTART:20160331T200000Z
DTEND:20160331T210000Z
X-MICROSOFT-CDO-ALLDAYEVENT:FALSE
SUMMARY:Jazzy Jungle Party @ Central Library
DESCRIPTION:Join the fun. Geared for grades K-5th.
X-ALT-DESC;FMTTYPE=text/html:Join the fun. Geared for grades K-5th.
LOCATION:Central Library
UID:e.2338.371
SEQUENCE:3
DTSTAMP:20260422T080245Z
URL:https://chamber.hrchamber.org/events/details/jazzy-jungle-party-central-library-03-31-2016-371
END:VEVENT

END:VCALENDAR
