BEGIN:VCALENDAR
VERSION:2.0
PRODID:-//ChamberMaster//Event Calendar 2.0//EN
METHOD:PUBLISH
X-PUBLISHED-TTL:P3D
REFRESH-INTERVAL:P3D
CALSCALE:GREGORIAN
BEGIN:VEVENT
DTSTART:20180622T223000Z
DTEND:20180623T023000Z
X-MICROSOFT-CDO-ALLDAYEVENT:FALSE
SUMMARY:Jazz in June Benefit
DESCRIPTION:Jazz in June is a festive summer party attended by over 200 museum supporters and local business leaders to benefit Explore More. The event takes place at the beautiful and historic Crosskeys Vineyard where guests will enjoy live jazz music\, food and beverages\, and a live auction with unique experiences. Register at www.iexploremore.com/jazz
X-ALT-DESC;FMTTYPE=text/html:Jazz in June is a festive summer party attended by over 200 museum supporters and local business leaders to benefit Explore More. The event takes place at the beautiful and historic Crosskeys Vineyard where guests will enjoy live jazz music\, food and beverages\, and a live auction with unique experiences. Register at www.iexploremore.com/jazz
LOCATION:CrossKeys Vineyards 6011 E Timber Ridge Rd\, Mt Crawford\, VA 22841
UID:e.2338.3711
SEQUENCE:3
DTSTAMP:20260420T150843Z
URL:https://chamber.hrchamber.org/events/details/jazz-in-june-benefit-3711
END:VEVENT

END:VCALENDAR
