BEGIN:VCALENDAR
VERSION:2.0
PRODID:-//ChamberMaster//Event Calendar 2.0//EN
METHOD:PUBLISH
X-PUBLISHED-TTL:P3D
REFRESH-INTERVAL:P3D
CALSCALE:GREGORIAN
BEGIN:VEVENT
DTSTART:20170616T223000Z
DTEND:20170617T023000Z
X-MICROSOFT-CDO-ALLDAYEVENT:FALSE
SUMMARY:Jazz in June
DESCRIPTION:Jazz in June is a festive summer party to benefit the Explore More Discovery Museum. It is held on the beautiful grounds of the historic CrossKeys Vineyards a perfect setting for this unique museum benefit! The fundraiser begins at 6:30 with a cocktail hour\, followed by a gourmet seated dinner\, and dynamic live auction. For tickets visit: http://www.iexploremore.com/jazz
X-ALT-DESC;FMTTYPE=text/html:<span style="color:rgba(26\, 26\, 26\, 0.701961)\; font-family:helvetica neue\,arial\,sans-serif\; font-size:17px">Jazz in June is a festive summer party to benefit the Explore More Discovery Museum. It is held on the beautiful grounds of the historic&nbsp\;</span><a href="http://www.crosskeysvineyards.com/" style="background-image: initial\; background-position: initial\; background-size: initial\; background-repeat: initial\; background-attachment: initial\; background-origin: initial\; background-clip: initial\; text-decoration: none\; color: rgb(4\, 0\, 133)\; font-family: &quot\;Helvetica Neue&quot\;\, Arial\, sans-serif\; font-size: 17px\; letter-spacing: 0.2px\;" target="_blank">CrossKeys Vineyards</a><span style="color:rgba(26\, 26\, 26\, 0.701961)\; font-family:helvetica neue\,arial\,sans-serif\; font-size:17px">&mdash\;a perfect setting for this unique museum benefit! The fundraiser begins at 6:30 with a cocktail hour\, followed by a gourmet seated dinner\, and dynamic live auction. For tickets visit:&nbsp\;</span>http://www.iexploremore.com/jazz&nbsp\;<br />\n&nbsp\;
LOCATION:CrossKeys Vineyards 6011 E Timber Ridge Rd\, Mt Crawford\, VA 22841
UID:e.2338.1566
SEQUENCE:3
DTSTAMP:20260419T204910Z
URL:https://chamber.hrchamber.org/events/details/jazz-in-june-1566
END:VEVENT

END:VCALENDAR
