BEGIN:VCALENDAR
VERSION:2.0
PRODID:-//ChamberMaster//Event Calendar 2.0//EN
METHOD:PUBLISH
X-PUBLISHED-TTL:P3D
REFRESH-INTERVAL:P3D
CALSCALE:GREGORIAN
BEGIN:VEVENT
DTSTART:20190314T230000Z
DTEND:20190315T003000Z
X-MICROSOFT-CDO-ALLDAYEVENT:FALSE
SUMMARY:Jaw Pain (TMD) Seminar
DESCRIPTION:Jaw Pain (TMD) Seminar\n\n\n\nPlease call (540)209-8977 or (540)901-9501 to reserve your seat.\n\n\n\nComplimentary 15 minute screenings with our physical therapists are available before the seminar beginning at 6:00pm.
X-ALT-DESC;FMTTYPE=text/html:Jaw Pain (TMD) Seminar<br />\n<br />\nPlease call (540)209-8977 or (540)901-9501 to reserve your seat.<br />\n<br />\nComplimentary 15 minute screenings with our physical therapists are available before the seminar beginning at 6:00pm.
LOCATION:Appalachian Physical Therapy (Harrisonburg Office) Located between Kohl's and Martin's Super Market 2035 E Market St Suite 45
UID:e.2338.6337
SEQUENCE:3
DTSTAMP:20260420T013101Z
URL:https://chamber.hrchamber.org/events/details/jaw-pain-tmd-seminar-6337
END:VEVENT

END:VCALENDAR
