BEGIN:VCALENDAR
VERSION:2.0
PRODID:-//ChamberMaster//Event Calendar 2.0//EN
METHOD:PUBLISH
X-PUBLISHED-TTL:P3D
REFRESH-INTERVAL:P3D
CALSCALE:GREGORIAN
BEGIN:VEVENT
DTSTART:20171109T233000Z
DTEND:20171110T010000Z
X-MICROSOFT-CDO-ALLDAYEVENT:FALSE
SUMMARY:Investing Wisely
DESCRIPTION:Investing Wisely: FREE Community Event Guest Presenters How to Earn a +65% State Tax Credit ~Curtis Cornell: Renewanation Planned Giving ~Jennifer E. Shirkey: Lenhart Pettit Partners with a Purpose ~Jonah Pence: F&M Bank *Event Sponsored by Blue Ridge Christian School
X-ALT-DESC;FMTTYPE=text/html:Investing Wisely: FREE Community Event Guest Presenters How to Earn a +65% State Tax Credit ~Curtis Cornell: Renewanation Planned Giving ~Jennifer E. Shirkey: Lenhart Pettit Partners with a Purpose ~Jonah Pence: F&amp\;M Bank *Event Sponsored by Blue Ridge Christian School
LOCATION:SVEC Building 147 Dinkel Ave. Mt. Crawford
UID:e.2338.3307
SEQUENCE:3
DTSTAMP:20260420T041356Z
URL:https://chamber.hrchamber.org/events/details/investing-wisely-3307
END:VEVENT

END:VCALENDAR
