BEGIN:VCALENDAR
VERSION:2.0
PRODID:-//ChamberMaster//Event Calendar 2.0//EN
METHOD:PUBLISH
X-PUBLISHED-TTL:P3D
REFRESH-INTERVAL:P3D
CALSCALE:GREGORIAN
BEGIN:VEVENT
DTSTART:20190621T200000Z
DTEND:20190621T230000Z
X-MICROSOFT-CDO-ALLDAYEVENT:FALSE
SUMMARY:Ignite Harrisonburg
DESCRIPTION:Join us at Bella Luna Wood-Fired Pizza for food and drinks on us! Presented by Harman Realty\, Ignite Harrisonburg is all about having a good time and moving Harrisonburg and surrounding communities forward.\n\n\n\nHarman Realty has a long standing history of promoting growth in Harrisonburg and the Valley through residential and commercial development projects and we want to hear from YOU! \n\n\n\nWhat do you want to see in our town over the next few years? What type of housing\, what restaurants\, what social projects (parks\, bikeways)\, what retail\, etc. How can we help?\n\n\n\nAll are welcome to come and enjoy a fun relaxing time with good food and drinks\, catch up with old friends and make some new ones! No formal agenda\, drop in as you please\, stay as long as you want. \n\n\n\nOur first of many such events to reach out and engage the community. You won't want to miss it!
X-ALT-DESC;FMTTYPE=text/html:<span style="background-color:rgb(255\, 255\, 255)\; color:rgb(29\, 33\, 41)\; font-family:helvetica\,arial\,sans-serif\; font-size:14px">Join us at Bella Luna Wood-Fired Pizza for food and drinks on us! Presented by Harman Realty\, Ignite Harrisonburg is all about having a good time and moving Harrisonburg and surrounding communities forward.</span><br />\n<br />\n<span style="background-color:rgb(255\, 255\, 255)\; color:rgb(29\, 33\, 41)\; font-family:helvetica\,arial\,sans-serif\; font-size:14px">Harman Realty has a long standing history of promoting growth in Harrisonburg and the Valley through residential and commercial development projects and we want to hear from YOU! </span><br />\n<br />\n<span style="background-color:rgb(255\, 255\, 255)\; color:rgb(29\, 33\, 41)\; font-family:helvetica\,arial\,sans-serif\; font-size:14px">What do you want to see in our town over the next few years? What type of housing\, what restaurants\, what social projects (parks\, bikeways)\, what retail\, etc. How can we help?</span><br />\n<br />\n<span style="background-color:rgb(255\, 255\, 255)\; color:rgb(29\, 33\, 41)\; font-family:helvetica\,arial\,sans-serif\; font-size:14px">All are welcome to come and enjoy a fun relaxing time with good food and drinks\, catch up with old friends and make some new ones! No formal agenda\, drop in as you please\, stay as long as you want. </span><br />\n<br />\n<span style="background-color:rgb(255\, 255\, 255)\; color:rgb(29\, 33\, 41)\; font-family:helvetica\,arial\,sans-serif\; font-size:14px">Our first of many such events to reach out and engage the community. You won&#39\;t want to miss it!</span>
LOCATION:Bella Luna Wood-Fired Pizza 80 W Water Street Harrisonburg\, VA 22801
UID:e.2338.6627
SEQUENCE:3
DTSTAMP:20260419T212402Z
URL:https://chamber.hrchamber.org/events/details/ignite-harrisonburg-06-21-2019-6627
END:VEVENT

END:VCALENDAR
