BEGIN:VCALENDAR
VERSION:2.0
PRODID:-//ChamberMaster//Event Calendar 2.0//EN
METHOD:PUBLISH
X-PUBLISHED-TTL:P3D
REFRESH-INTERVAL:P3D
CALSCALE:GREGORIAN
BEGIN:VEVENT
DTSTART;VALUE=DATE:20181003
DTEND;VALUE=DATE:20181004
TRANSP:TRANSPARENT
X-MICROSOFT-CDO-ALLDAYEVENT:TRUE
SUMMARY:ICAP Lean Startup Course: Shenandoah Valley Cohort
DESCRIPTION:Based on the National Science Foundation's I-Corps  program for Lean Startups\, ICAP helps inventors and entrepreneurs take the right first steps in bringing new technologies and innovations to market.\n\nICAP includes FREE introductory training and counseling offered by ICAP instructors and local SBDC business advisors. ICAP helps startups identify potential customers and develop successful business models based on that knowledge. It is an ideal program for early-stage companies trying to prepare for eventual venture investment.\n\nDuring this 2-week program\, there is extensive work done outside the classroom. In addition to the two class meetings\, participants should expect to spend another 10-15 hours per week on customer discovery and course assignments.\n\nAt the conclusion of the program\, you will remain connected with your ICAP trainers and SBDC Business Advisors to continue your progress on the Five Steps to Startup Success.\n\nThis program is designed to generate a maximum impact over a relatively short duration and should be considered a required first step for anyone interested in commercializing a technology or product\, whether through a startup or licensing arrangement.\n\nSome graduates of this cohort may be eligible to apply to NSF's full National Seven-week I-Corps Program which includes non-dilutive grants for customer discovery and prototype development. Additionally\, this program can help teams develop better submissions for SBIR and CRCF grants from Virginia's Center for Innovative Technologies.\n\n\n\nApplications are due by midnight on October 3\, 2018.\n\n\n\nGo to the ICAP application form \n\n\n\nSee more information and important dates
X-ALT-DESC;FMTTYPE=text/html:<p>Based on the National Science Foundation&rsquo\;s I-Corps&trade\; program for Lean Startups\, ICAP helps inventors and entrepreneurs take the right first steps in bringing new technologies and innovations to market.</p>\n\n<p>ICAP includes FREE introductory training and counseling offered by ICAP instructors and local SBDC business advisors. ICAP helps startups identify potential customers and develop successful business models based on that knowledge. It is an ideal program for early-stage companies trying to prepare for eventual venture investment.</p>\n\n<p>During this 2-week program\, there is extensive work done outside the classroom. In addition to the two class meetings\, participants should expect to spend another 10-15 hours per week on customer discovery and course assignments.</p>\n\n<p>At the conclusion of the program\, you will remain connected with your ICAP trainers and SBDC Business Advisors to continue your progress on the Five Steps to Startup Success.</p>\n\n<p>This program is designed to generate a maximum impact over a relatively short duration and should be considered a required first step for anyone interested in commercializing a technology or product\, whether through a startup or licensing arrangement.</p>\n\n<p>Some graduates of this cohort may be eligible to apply to NSF&rsquo\;s full National Seven-week I-Corps Program which includes non-dilutive grants for customer discovery and prototype development. Additionally\, this program can help teams develop better submissions for SBIR and CRCF grants from Virginia&rsquo\;s Center for Innovative Technologies.<br />\n<br />\n<strong>Applications&nbsp\;are due by midnight on&nbsp\;October 3\, 2018.</strong><br />\n<br />\n<strong><a href="http://www.virginiasbdc.org/icap-application/">Go to the ICAP application form</a>&nbsp\;<br />\n<br />\n<a href="https://svtc-va.org/event/icap-lean-startup-course-2018/">See more information and important dates</a></strong><br />\n&nbsp\;</p>\n
LOCATION:
UID:e.2338.5999
SEQUENCE:3
DTSTAMP:20260420T091159Z
URL:https://chamber.hrchamber.org/events/details/icap-lean-startup-course-shenandoah-valley-cohort-5999
END:VEVENT

END:VCALENDAR
