BEGIN:VCALENDAR
VERSION:2.0
PRODID:-//ChamberMaster//Event Calendar 2.0//EN
METHOD:PUBLISH
X-PUBLISHED-TTL:P3D
REFRESH-INTERVAL:P3D
CALSCALE:GREGORIAN
BEGIN:VEVENT
DTSTART:20181020T140000Z
DTEND:20181020T210000Z
X-MICROSOFT-CDO-ALLDAYEVENT:FALSE
SUMMARY:Hutton House at BrydgeWorks Open House
DESCRIPTION:We are thrilled to announce the completion of a major remodeling project adjacent to the studio\, Hutton House! Make plans to join us October 19\, 10 am   5 pm and October 20\, 10 am   3 pm to tour the project and talk to the brains behind the renovation and artisan installations. The transformation has been remarkable. \n\n\n\n \n\n\n\nIn addition to a complete rebuild of the structure\, lots of artisan details have been added to the interior\, including glass tile mosaic shower\, an antique jar valence in the kitchen\, and handmade bedroom furniture with fossil vitra panels. You'll want to explore every detail.\n\n\n\n \n\n\n\nWhat a great place to put up visiting family or friends during the holidays! Look for Hutton House on your favorite vacation rental sites towards the end of September\, and please share the word about this new lodging option in our area.
X-ALT-DESC;FMTTYPE=text/html:<div>\n<div><span style="font-family:inherit">We are thrilled to announce the completion of a major remodeling project adjacent to the studio\, Hutton House! Make plans to join us October 19\, 10 am &ndash\; 5 pm and October 20\, 10 am &ndash\; 3 pm to tour the project and talk to the brains behind the renovation and artisan installations. The transformation has been remarkable. </span></div>\n</div>\n\n<div>\n<div>&nbsp\;</div>\n</div>\n\n<div>\n<div><span style="font-family:inherit">In addition to a complete rebuild of the structure\, lots of artisan details have been added to the interior\, including glass tile mosaic shower\, an antique jar valence in the kitchen\, and handmade bedroom furniture with fossil vitra panels. You&rsquo\;ll want to explore every detail.</span></div>\n</div>\n\n<div>\n<div>&nbsp\;</div>\n</div>\n\n<div>\n<div><span style="font-family:inherit">What a great place to put up visiting family or friends during the holidays! Look for Hutton House on your favorite vacation rental sites towards the end of September\, and please share the word about this new lodging option in our area.</span></div>\n</div>\n
LOCATION:3315 Harpine Hwy\, Harrisonburg\, VA 22802
UID:e.2338.6048
SEQUENCE:3
DTSTAMP:20260420T091159Z
URL:https://chamber.hrchamber.org/events/details/hutton-house-at-brydgeworks-open-house-10-20-2018-6048
END:VEVENT

END:VCALENDAR
