BEGIN:VCALENDAR
VERSION:2.0
PRODID:-//ChamberMaster//Event Calendar 2.0//EN
METHOD:PUBLISH
X-PUBLISHED-TTL:P3D
REFRESH-INTERVAL:P3D
CALSCALE:GREGORIAN
BEGIN:VEVENT
DTSTART:20190426T223000Z
DTEND:20190427T010000Z
X-MICROSOFT-CDO-ALLDAYEVENT:FALSE
SUMMARY:HRG Crooked & Weedy 5K
DESCRIPTION:Are you the type of person who runs only if being chased by a wild animal? What if there was an incentive at the end of the race? A sweet\, red\, fruity\, full bodied incentive? Then get off the couch and get registered for the Crooked & Weedy 5K at Bluestone Vineyard. Runners\, joggers\, walkers\, of any level--enjoy the day complete with food\, live music\, and of course\, the great wines at Bluestone Vineyard.\n\nPrice includes:\n\n	Race Shirt (must be signed-up by 4/1 AND be one of the first 250 runners to be guaranteed a race T-shirt).\n	Wine Glass: Be one of the first 100 runners to sign up and receive a free\, exclusive Crooked & Weedy wine glass! (New design this year!)\n\nEarly Bird Special ends 4/20 at 11:59p!\n\nDay of Race Registration- $40\n\nRace Packet Pick-up: April 22-25 | 8a-5p | Harrisonburg Radio Group (1820 Heritage Center Way\, Harrisonburg\, VA 22801)\n\nA portion of the race proceeds beenfit Anicira of Harrisonburg/Rockingham\n\n\n\n\nWe want to share the fascinating story behind why our 5K race is named the "Crooked & Weedy."\n\nTo start\, no\, you will not be running on a "crooked and weedy" path! The name is rooted in Shenandoah Valley history:\n\nLet's take a trip back to the late 1800s. The Virginia-Chesapeake Western Railroad\, originally running through the Shenandoah Valley\, connecting Harrisonburg to Bridgewater\, Elkton\, and Staunton\, was used to raw materials from town to town. The railroad is now primarily used for the poultry industry in the Valley.\n\nLocals and train guys nicknamed the rail line the "Crooked & Weedy Rail Road" because of the hilly and rural landscape through which it traveled.\n\nA piece of the Crooked & Weedy used to run through Bluestone Vineyard\, but is not longer operating. To honor its history\, Bluestone Vineyard named one of their popular red wines after the infamous railroad.\n\nSo no worries\, we promise the race route is not "Crooked" and "Weedy". Instead\, you will be running through a piece of Shenandoah Valley History.\n\nFor more information about the "Crooked & Weedy" Railroad: Virginia Museum of Transportation\n\n\n\n\n\nRace Title Sponsors:\n\nPepsi Bottling Company of Central Virginia
X-ALT-DESC;FMTTYPE=text/html:<div style="box-sizing:border-box\;color:rgb(57\, 54\, 79)\;display:inline-block\;font-family:Neue Plak\, -apple-system\, BlinkMacSystemFont\, Roboto\, Helvetica Neue\, Helvetica\, Tahoma\, Arial\, sans-serif\;font-size:1rem\;font-variant-numeric:normal\;font-variant-east-asian:normal\;letter-spacing:0.5px\;line-height:1.6rem\;overflow:hidden\;padding:0px 15px\;vertical-align:top\;width:100%\;">\n<div data-xd-wired="read-more" dorsal-guid="336fba3d-83bc-8aa3-8bbc-9e4b02574549" style="margin-bottom:0px\;margin-left:0px\;margin-right:0px\;margin-top:0px\;padding-bottom:0px\;padding-left:0px\;padding-right:0px\;padding-top:0px\;">\n<div style="margin-bottom:0px\;margin-left:0px\;margin-right:0px\;margin-top:0px\;overflow:hidden\;overflow-wrap:break-word\;padding-bottom:0px\;padding-left:0px\;padding-right:0px\;padding-top:0px\;position:relative\;">\n<div data-automation="listing-event-description" style="margin-bottom:0px\;margin-left:0px\;margin-right:0px\;margin-top:15px\;padding-bottom:0px\;padding-left:0px\;padding-right:0px\;padding-top:0px\;">Are you the type of person who runs only if being chased by a wild animal? What if there was an incentive at the end of the race? A sweet\, red\, fruity\, full bodied incentive? Then get off the couch and get registered for the Crooked &amp\; Weedy 5K at Bluestone Vineyard. Runners\, joggers\, walkers\, of any level--enjoy the day complete with food\, live music\, and of course\, the great wines at Bluestone Vineyard.<br />\nPrice includes:\n<ul>\n	<li style="margin-bottom:0px\;margin-left:0px\;margin-right:0px\;margin-top:0px\;padding-bottom:0px\;padding-left:0px\;padding-right:0px\;padding-top:0px\;">Race Shirt (must be signed-up by 4/1 AND be one of the first 250 runners to be guaranteed a race T-shirt).</li>\n	<li style="margin-bottom:0px\;margin-left:0px\;margin-right:0px\;margin-top:0px\;padding-bottom:0px\;padding-left:0px\;padding-right:0px\;padding-top:5px\;">Wine Glass: Be one of the first 100 runners to sign up and receive a free\, exclusive Crooked &amp\; Weedy wine glass! (New design this year!)</li>\n</ul>\nEarly Bird Special ends 4/20 at 11:59p!<br />\nDay of Race Registration- $40<br />\nRace Packet Pick-up: April 22-25 | 8a-5p | Harrisonburg Radio Group (1820 Heritage Center Way\, Harrisonburg\, VA 22801)<br />\nA portion of the race proceeds beenfit Anicira of Harrisonburg/Rockingham\n<hr style="border-bottom-style:none\;border-image:none 100% / 1 / 0 stretch\;border-left-style:none\;border-right-style:none\;box-sizing:content-box\;height:0px\;" /><br style="padding-top:0px\;" />\n<br />\nWe want to share the fascinating story behind why our 5K race is named the &quot\;Crooked &amp\; Weedy.&quot\;<br />\nTo start\, no\, you will not be running on a &quot\;crooked and weedy&quot\; path! The name is rooted in Shenandoah Valley history:<br />\nLet&#39\;s take a trip back to the late 1800s. The Virginia-Chesapeake Western Railroad\, originally running through the Shenandoah Valley\, connecting Harrisonburg to Bridgewater\, Elkton\, and Staunton\, was used to raw materials from town to town. The railroad is now primari<span style="padding-top:0px\;">ly used for the poultry industry in the Valley.</span>\n\n<div style="margin-bottom:0px\;margin-left:0px\;margin-right:0px\;margin-top:0px\;padding-bottom:0px\;padding-left:0px\;padding-right:0px\;padding-top:0px\;">Locals and train guys nicknamed the rail line the &quot\;Crooked &amp\; Weedy Rail Road&quot\; because of the hilly and rural landscape through which it traveled.<br />\nA piece of the Crooked &amp\; Weedy used to run through <a href="https://business.facebook.com/Bluestone-Vineyard-113501325388441/?fref=mentions" rel="nofollow noopener noreferrer" style="color:var(--eds-control\,#3659e3)\;cursor:pointer\;padding-top:0px\;text-decoration-line:none\;" target="_blank">Bluestone Vineyard</a>\, but is not longer operating. To honor its history\, Bluestone Vineyard named one of their popular red wines after the infamous railroad.<br />\nSo no worries\, we promise the race route is not &quot\;Crooked&quot\; and &quot\;Weedy&quot\;. Instead\, you will be running through a piece of Shenandoah Valley History.<br />\nFor more information about the &quot\;Crooked &amp\; Weedy&quot\; Railroad: <a href="https://business.facebook.com/VA.Museum.Transportation/?fref=mentions" rel="nofollow noopener noreferrer" style="color:var(--eds-control\,#3659e3)\;cursor:pointer\;padding-top:0px\;text-decoration-line:none\;" target="_blank">Virginia Museum of Transportation</a><br />\n<br style="padding-top:0px\;" />\n<br />\nRace Title Sponsors:<br />\nPepsi Bottling Company of Central Virginia</div>\n</div>\n</div>\n</div>\n</div>\n
LOCATION:Bluestone Vineyard 4828 Spring Creek Road Bridgewater\, VA 22812 View Map
UID:e.2338.6567
SEQUENCE:3
DTSTAMP:20260420T001127Z
URL:https://chamber.hrchamber.org/events/details/hrg-crooked-weedy-5k-6567
END:VEVENT

END:VCALENDAR
