BEGIN:VCALENDAR
VERSION:2.0
PRODID:-//ChamberMaster//Event Calendar 2.0//EN
METHOD:PUBLISH
X-PUBLISHED-TTL:P3D
REFRESH-INTERVAL:P3D
CALSCALE:GREGORIAN
BEGIN:VEVENT
DTSTART:20170816T153000Z
DTEND:20170816T173000Z
X-MICROSOFT-CDO-ALLDAYEVENT:FALSE
SUMMARY:How Digital Marketing Can Help Retailers (and any business) Thrive on the Web
DESCRIPTION:In today's fast-paced digital world\, the shopping process continues to evolve\, and it affects every buyer's path to purchasing from you. \n\n \n\nIn this livestream webinar\, you'll learn how retailers can get ahead on that path of converting shoppers to buyers by adjusting your advertising strategies to target consumers where they are spending their time. The speakers\, Kristen Johanson and Alex Chen of Google\, will also provide recommendations you can implement with AdWords and other Google tools. \n\n \n\nOnline advertising can help any business grow. Join Immerge to learn more about how digital marketing can help your retail business thrive on the Web. The Small Business Development Center will be hosting the event at the JMU Ice House. All are welcome for this free event. \n\n \n\nFollowing the Webinar\, the Immerge Team will be available to answer your specific questions regarding online marketing and ways to improve your retail location's visibility. Immerge's services include web development\, web design\, and digital marketing that includes search engine optimization (SEO)\, Facebook Ad campaigns\, Google Adwords campaigns\, and more.\n\n \n\nThis event is FREE but registration is required. Lunch will be provided as well. More information and registration instructions can be found at http://info.immergetech.com/google_event_8_2017
X-ALT-DESC;FMTTYPE=text/html:In today&#39\;s fast-paced digital world\, the shopping process continues to evolve\, and it affects every buyer&#39\;s path to purchasing from you.&nbsp\;<br />\n&nbsp\;<br />\nIn this livestream webinar\, you&#39\;ll learn how retailers can get ahead on that path of converting shoppers to buyers by adjusting your advertising strategies to target consumers where they are spending their time. The speakers\, Kristen Johanson and Alex Chen of Google\, will also provide recommendations you can implement with AdWords and other Google tools.&nbsp\;<br />\n&nbsp\;<br />\nOnline advertising can help any business grow. Join Immerge to learn more about how digital marketing can help your retail business thrive on the Web. The Small Business Development Center will be hosting the event at the JMU Ice House. All are welcome for this free event.&nbsp\;<br />\n&nbsp\;<br />\nFollowing the Webinar\, the Immerge Team will be available to answer your specific questions regarding online marketing and ways to improve your retail location&#39\;s visibility. Immerge&#39\;s services include web development\, web design\, and digital marketing that includes search engine optimization (SEO)\, Facebook Ad campaigns\, Google Adwords campaigns\, and more.<br />\n&nbsp\;<br />\nThis event is FREE but registration is required. Lunch will be provided as well. More information and registration instructions can be found at <a href="http://info.immergetech.com/google_event_8_2017">http://info.immergetech.com/google_event_8_2017</a><br />\n&nbsp\;
LOCATION:JMU Ice House Room 117\, 127 W Bruce Street\, Harrisonburg
UID:e.2338.3209
SEQUENCE:3
DTSTAMP:20260419T234649Z
URL:https://chamber.hrchamber.org/events/details/how-digital-marketing-can-help-retailers-and-any-business-thrive-on-the-web-3209
END:VEVENT

END:VCALENDAR
