BEGIN:VCALENDAR
VERSION:2.0
PRODID:-//ChamberMaster//Event Calendar 2.0//EN
METHOD:PUBLISH
X-PUBLISHED-TTL:P3D
REFRESH-INTERVAL:P3D
CALSCALE:GREGORIAN
BEGIN:VEVENT
DTSTART:20181023T180000Z
DTEND:20181023T200000Z
X-MICROSOFT-CDO-ALLDAYEVENT:FALSE
SUMMARY:Hospitality Committee Meeting
DESCRIPTION:With ABC Special Agent Joe Cannon.\n\nHe will be discussing the following topics:\n\n	ABC Licensing process to include the required documents\n	COOP Permit\n	Ownership Changes procedures\n	Qualifications\n	Do's / Don'ts involving Industry on Licensed premises\n	Q/A
X-ALT-DESC;FMTTYPE=text/html:With ABC Special Agent Joe Cannon.<br />\nHe will be discussing the following topics:\n<ul>\n	<li>ABC Licensing process to include the required documents</li>\n	<li>COOP Permit</li>\n	<li>Ownership Changes procedures</li>\n	<li>Qualifications</li>\n	<li>Do&rsquo\;s / Don&rsquo\;ts involving Industry on Licensed premises</li>\n	<li>Q/A</li>\n</ul>\n
LOCATION:DoubleTree by Hilton 1400 East Market Street Harrisonburg\, VA
UID:e.2338.6050
SEQUENCE:3
DTSTAMP:20260420T091350Z
URL:https://chamber.hrchamber.org/events/details/hospitality-committee-meeting-6050
END:VEVENT

END:VCALENDAR
