BEGIN:VCALENDAR
VERSION:2.0
PRODID:-//ChamberMaster//Event Calendar 2.0//EN
METHOD:PUBLISH
X-PUBLISHED-TTL:P3D
REFRESH-INTERVAL:P3D
CALSCALE:GREGORIAN
BEGIN:VEVENT
DTSTART:20170913T180000Z
DTEND:20170913T200000Z
X-MICROSOFT-CDO-ALLDAYEVENT:FALSE
SUMMARY:Hospitality Committee Meeting
DESCRIPTION:The Hospitality Committee will meet on Wednesday\, September 13 at the DoubleTree by Hilton Harrisonburg. This month the Hospitality Committee will learn more about a proposed initiative called\, "I Am Tourism Harrisonburg". This program would follow Richmond Region Tourism's I Am Tourism Ambassador Program which helps participants gain a visitor's perspective of the region and knowledge of the many tourism products and offerings. We welcome Hospitality Committee Member's feedback regarding program.   \n\n\n\nFollowing the meeting\, Hospitality Committee Members will receive a tour of the recently opened DoubleTree by Hilton and enjoy networking at the Connections Restaurant & Bar.
X-ALT-DESC;FMTTYPE=text/html:The Hospitality Committee will meet on Wednesday\, September 13 at the DoubleTree by Hilton Harrisonburg. <span><span _mce_style="font-family: Arial\,Helvetica\,sans-serif\;" style="font-family: Arial\,Helvetica\,sans-serif\;"><span>This month the Hospitality Committee will learn more about a proposed initiative called\, &quot\;I Am Tourism Harrisonburg&quot\;. This program would follow Richmond Region Tourism&#39\;s I Am Tourism Ambassador Program which helps participants gain a visitor&#39\;s perspective of the region and knowledge of the many tourism products and offerings. We welcome Hospitality Committee Member&#39\;s feedback regarding program.&nbsp\; &nbsp\;<br />\n<br />\nFollowing the meeting\, Hospitality Committee Members will receive a tour of the recently opened DoubleTree by Hilton and enjoy networking at the <span>Connections Restaurant &amp\; Bar.</span>&nbsp\;</span></span></span><br />\n&nbsp\;
LOCATION:
UID:e.2338.3239
SEQUENCE:3
DTSTAMP:20260420T011308Z
URL:https://chamber.hrchamber.org/events/details/hospitality-committee-meeting-3239
END:VEVENT

END:VCALENDAR
