BEGIN:VCALENDAR
VERSION:2.0
PRODID:-//ChamberMaster//Event Calendar 2.0//EN
METHOD:PUBLISH
X-PUBLISHED-TTL:P3D
REFRESH-INTERVAL:P3D
CALSCALE:GREGORIAN
BEGIN:VEVENT
DTSTART:20170621T180000Z
DTEND:20170621T200000Z
X-MICROSOFT-CDO-ALLDAYEVENT:FALSE
SUMMARY:Hospitality Committee Meeting
DESCRIPTION:This month the Hospitality Committee will hear from Nancy Craun\, Owner and Founder of Go Blue Ridge Travel. Go Blue Ridge Travel was created to connect businesses to businesses developing strong collaborative marketing relationships based on mutual visitor experiences. The regional focus is on the Shenandoah Valley. Nancy will discuss the membership benefits and how you can receive the highest reach for your marketing dollars converting leas to sales. \n\n\n\nAfter Nancy's presentation we will receive hear from Tim Brady\, Founder & General Manager of Pale Fire Brewing Co. In April 2015\, this 20-barrel brewery opened in the recently renovated Ice House in downtown Harrisonburg. Learn about Pale Fire Brewing Co.'s operation\, involvement with the Shenandoah Beerwerks Trail and  Shenandoah Spirits Trail\, as well as what the future holds for this thriving brewery.
X-ALT-DESC;FMTTYPE=text/html:<span style="font-size:12px\;"><span style="font-family: arial\;"><span style="color: rgb(0\, 71\, 127)\;">This month the Hospitality Committee will hear from Nancy Craun\, Owner and Founder of <a alt="https://www.goblueridgetravel.com/" href="http://r20.rs6.net/tn.jsp?t=8hvz6u9ab.0.0.sppfzucab.0&amp\;id=preview&amp\;r=3&amp\;p=https%3A%2F%2Fwww.goblueridgetravel.com%2F" shape="rect" target="_blank">Go Blue Ridge Travel</a>. Go Blue Ridge Travel was created to connect businesses to businesses developing strong collaborative marketing relationships based on mutual visitor experiences. The regional focus is on the Shenandoah Valley. Nancy will discuss the membership benefits and how you can receive the highest reach for your marketing dollars converting leas to sales.&nbsp\;</span><br />\n<br />\n<span style="color: rgb(0\, 71\, 127)\;">After Nancy&#39\;s presentation we will receive hear from Tim Brady\, Founder &amp\; General Manager of <a alt="http://www.palefirebrewing.com/" href="http://r20.rs6.net/tn.jsp?t=8hvz6u9ab.0.0.sppfzucab.0&amp\;id=preview&amp\;r=3&amp\;p=http%3A%2F%2Fwww.palefirebrewing.com%2F" shape="rect" target="_blank">Pale Fire Brewing Co.</a> In April 2015\, this 20-barrel brewery opened in the recently renovated Ice House in downtown Harrisonburg. Learn about Pale Fire Brewing Co.&#39\;s operation\, involvement with the <a alt="http://beerwerkstrail.com/" href="http://r20.rs6.net/tn.jsp?t=8hvz6u9ab.0.0.sppfzucab.0&amp\;id=preview&amp\;r=3&amp\;p=http%3A%2F%2Fbeerwerkstrail.com%2F" shape="rect" target="_blank">Shenandoah Beerwerks Trail</a> and &nbsp\;<a alt="https://www.shenandoahspiritstrail.com/" href="http://r20.rs6.net/tn.jsp?t=8hvz6u9ab.0.0.sppfzucab.0&amp\;id=preview&amp\;r=3&amp\;p=https%3A%2F%2Fwww.shenandoahspiritstrail.com%2F" shape="rect" target="_blank">Shenandoah Spirits Trail</a>\, as well as what the future holds for this thriving brewery.</span></span></span><br />\n&nbsp\;
LOCATION:Location varies.
UID:e.2338.3016
SEQUENCE:3
DTSTAMP:20260419T205145Z
URL:https://chamber.hrchamber.org/events/details/hospitality-committee-meeting-3016
END:VEVENT

END:VCALENDAR
