BEGIN:VCALENDAR
VERSION:2.0
PRODID:-//ChamberMaster//Event Calendar 2.0//EN
METHOD:PUBLISH
X-PUBLISHED-TTL:P3D
REFRESH-INTERVAL:P3D
CALSCALE:GREGORIAN
BEGIN:VEVENT
DTSTART:20181007T180000Z
DTEND:20181007T210000Z
X-MICROSOFT-CDO-ALLDAYEVENT:FALSE
SUMMARY:Horse Power 4 Miler
DESCRIPTION:A walk/run to benefit the programs of Cross Keys Equine Therapy.\nThis year's event will be held\, Sunday\, October 7\, 2018 at 2:30pm (Pony Power Fun Run starts at 2:00pm).  A 4-mile walk/run road course through the beautiful countryside of the Shenandoah Valley to benefit all the programs of Cross Keys Equine Therapy! The walk/run starts and ends at the farm. Come on out and enjoy an afternoon of exercise\, pony rides\, food and fun for all ages! Strollers and friendly dogs on leashes are welcome.\n\nWe are pleased to announce a Pony Power Fun Run for kids ages 3-12!\n\nThe Pony Power Fun Run is a .3mi run for ages 3-12 around the hay field at Cross Keys Equine Therapy.  The Fun Run starts at 2pm and is on the same property as the Horse Power 4 Miler start/finish\, so parents can cheer on their kids and still participate in the 4 Miler.  After sprinting around the hay field\, the kids receive a finisher award and a free pony ride. Parents may run this race with any child participating at no cost. Registration includes free pony ride ticket\, and kettle corn!
X-ALT-DESC;FMTTYPE=text/html:<strong>A walk/run to benefit the programs of Cross Keys Equine Therapy.</strong>\n<p>This year&rsquo\;s event will be held\, Sunday\, October 7\, 2018 at 2:30pm (Pony Power Fun Run starts at 2:00pm).&nbsp\; A 4-mile walk/run road course through the beautiful countryside of the Shenandoah Valley to benefit all the programs of Cross Keys Equine Therapy! The walk/run starts and ends at the farm. Come on out and enjoy an afternoon of exercise\, pony rides\, food and fun for all ages! Strollers and friendly dogs on leashes are welcome.</p>\n\n<p><strong>We are pleased to announce a Pony Power Fun Run for kids ages 3-12!</strong></p>\n\n<p>The Pony Power Fun Run is a .3mi run for ages 3-12 around the hay field at Cross Keys Equine Therapy.&nbsp\; The Fun Run starts at&nbsp\;2pm&nbsp\;and is on the same property as the Horse Power 4 Miler start/finish\, so parents can cheer on their kids and still participate in the 4 Miler.&nbsp\; After sprinting around the hay field\, the kids receive a finisher award and a free pony ride. Parents may run this race with any child participating at no cost.<strong>&nbsp\;Registration includes free pony ride ticket\, and kettle corn!&nbsp\;</strong></p>\n
LOCATION:Cross Keys Equine Therapy 6711 Stoney Lick Road Mt. Crawford\, Virginia 22841
UID:e.2338.6007
SEQUENCE:3
DTSTAMP:20260420T090844Z
URL:https://chamber.hrchamber.org/events/details/horse-power-4-miler-6007
END:VEVENT

END:VCALENDAR
