BEGIN:VCALENDAR
VERSION:2.0
PRODID:-//ChamberMaster//Event Calendar 2.0//EN
METHOD:PUBLISH
X-PUBLISHED-TTL:P3D
REFRESH-INTERVAL:P3D
CALSCALE:GREGORIAN
BEGIN:VEVENT
DTSTART:20200118T140000Z
DTEND:20200118T210000Z
X-MICROSOFT-CDO-ALLDAYEVENT:FALSE
SUMMARY:Horizons Edge Sports Campus Grand Opening
DESCRIPTION:It's finally here! We invite you to join us for our Grand Opening and ribbon cutting on Saturday\, January 18 from 9:00 a.m. to 4:00 p.m. at our brand new\, 90\,000 square foot facility. Come for a day of fun and games for the entire family! Compete in contests for all ages and win prizes\, while enjoying complimentary food and beverages from the Horizons Edge Caf . Enjoy Clip 'n Climb challenges for all skill levels.  Friendly competitions in timed and climbing duals will be available for those wishing to participate. Be part of the hype with iHeart Radio DJs\, Dan Joyce and Chris Carmichael\, as they broadcast live with special giveaways throughout the day.
X-ALT-DESC;FMTTYPE=text/html:<span style="color:#565656"><span style="font-family:open sans\,sans-serif"><span style="font-size:10.5pt">It&#39\;s finally here!&nbsp\;We invite you to join us for our&nbsp\;Grand Opening and ribbon cutting on <strong>Saturday\,</strong> <strong><span style="font-family:open sans\,sans-serif">January 18 </span></strong>from <strong><span style="font-family:open sans\,sans-serif">9:00 a.m. to 4:00 p.m</span></strong>. at our brand new\, 90\,000 square foot facility.&nbsp\;</span></span></span><span style="font-family:open sans\,sans-serif"><span style="font-size:10.5pt">Come for a day of fun and games for the entire family! Compete in contests for all ages and&nbsp\;win prizes\, while enjoying&nbsp\;complimentary food and beverages from the Horizons Edge Caf&eacute\;.&nbsp\;</span></span><span style="font-family:open sans\,sans-serif"><span style="font-size:10.5pt">Enjoy Clip &#39\;n&nbsp\;Climb challenges for all skill levels. &nbsp\;Friendly competitions in timed and climbing duals will be available for those wishing to participate.&nbsp\;</span></span><span style="font-family:open sans\,sans-serif"><span style="font-size:10.5pt">Be part of the hype with iHeart Radio DJs\, Dan Joyce and Chris Carmichael\, as they broadcast live with special giveaways throughout the day.</span></span>
LOCATION:Horizons Edge Sports Campus 325 Cornerstone Lane Harrisonburg\,VA 22802
UID:e.2338.8514
SEQUENCE:3
DTSTAMP:20260419T123054Z
URL:https://chamber.hrchamber.org/events/details/horizons-edge-sports-campus-grand-opening-8514
END:VEVENT

END:VCALENDAR
