BEGIN:VCALENDAR
VERSION:2.0
PRODID:-//ChamberMaster//Event Calendar 2.0//EN
METHOD:PUBLISH
X-PUBLISHED-TTL:P3D
REFRESH-INTERVAL:P3D
CALSCALE:GREGORIAN
BEGIN:VEVENT
DTSTART:20190712T163000Z
DTEND:20190712T173000Z
X-MICROSOFT-CDO-ALLDAYEVENT:FALSE
SUMMARY:Hometown Heroes Luncheon
DESCRIPTION:Join us to celebrate our Hometown Heros!\n\nTimberville Police Dept.\n\nBroadway Police Dept.\n\nBroadway Rescue Squad\n\nBroadway Fire Dept.\n\nTimberville Fire Dept.\n\nRockingham County Sheriff's Dept.\n\n\n\nRSVP by July 1st\n\nHalee Stroh 540-901-6095/ 215-589-8921 or halee.stroh@jbssa.com
X-ALT-DESC;FMTTYPE=text/html:<span style="font-size:14px\;"><span style="font-family:verdana\;">Join us to celebrate our Hometown Heros!<br />\n<span style="color:black\;">Timberville Police Dept.</span><br />\n<span style="color:black\;">Broadway Police Dept.</span><br />\n<span style="color:black\;">Broadway Rescue Squad</span><br />\n<span style="color:black\;">Broadway Fire Dept.</span><br />\n<span style="color:black\;">Timberville Fire Dept.</span><br />\n<span style="color:black\;">Rockingham County Sheriff&rsquo\;s Dept.</span><br />\n<br />\n<u><strong><span style="color:black\;">RSVP by July 1</span><span style="language:en-US\;vertical-align:super\;"><span style="color:black\;">st</span></span></strong></u><br />\n<span style="color:black\;">Halee Stroh 540-901-6095/ 215-589-8921</span><span style="color:black\;">&nbsp\;or <a href="mailto:halee.stroh@jbssa.com">halee.stroh@jbssa.com</a></span></span></span>
LOCATION:Pilgrim's Admin Building (upstairs) 330 Co-op Drive Timberville\, VA 22853
UID:e.2338.6647
SEQUENCE:3
DTSTAMP:20260419T194721Z
URL:https://chamber.hrchamber.org/events/details/hometown-heroes-luncheon-6647
END:VEVENT

END:VCALENDAR
