BEGIN:VCALENDAR
VERSION:2.0
PRODID:-//ChamberMaster//Event Calendar 2.0//EN
METHOD:PUBLISH
X-PUBLISHED-TTL:P3D
REFRESH-INTERVAL:P3D
CALSCALE:GREGORIAN
BEGIN:VEVENT
DTSTART:20181208T003000Z
DTEND:20181208T020000Z
X-MICROSOFT-CDO-ALLDAYEVENT:FALSE
SUMMARY:Holiday Extravaganza
DESCRIPTION:Holiday Extravaganza:\n\n                                    Friday\, Dec. 7\, 7:30 p.m.\, Cole Hall\, Bridgewater College\n\n                                    Saturday\, Dec. 8\, 3 p.m.\, Cole Hall\, Bridgewater College\n\nBridgewater College's department of music will present a holiday musical experience.\n\nFree and open to the public
X-ALT-DESC;FMTTYPE=text/html:<strong><u>Holiday Extravaganza</u></strong>:<br />\n&nbsp\;&nbsp\;&nbsp\;&nbsp\;&nbsp\;&nbsp\;&nbsp\;&nbsp\;&nbsp\;&nbsp\;&nbsp\;&nbsp\;&nbsp\;&nbsp\;&nbsp\;&nbsp\;&nbsp\;&nbsp\;&nbsp\;&nbsp\;&nbsp\;&nbsp\;&nbsp\;&nbsp\;&nbsp\;&nbsp\;&nbsp\;&nbsp\;&nbsp\;&nbsp\;&nbsp\;&nbsp\;&nbsp\;&nbsp\;&nbsp\; Friday\, Dec. 7\, 7:30 p.m.\, Cole Hall\, Bridgewater College<br />\n&nbsp\;&nbsp\;&nbsp\;&nbsp\;&nbsp\;&nbsp\;&nbsp\;&nbsp\;&nbsp\;&nbsp\;&nbsp\;&nbsp\;&nbsp\;&nbsp\;&nbsp\;&nbsp\;&nbsp\;&nbsp\;&nbsp\;&nbsp\;&nbsp\;&nbsp\;&nbsp\;&nbsp\;&nbsp\;&nbsp\;&nbsp\;&nbsp\;&nbsp\;&nbsp\;&nbsp\;&nbsp\;&nbsp\;&nbsp\;&nbsp\; Saturday\, Dec. 8\, 3 p.m.\, Cole Hall\, Bridgewater College<br />\nBridgewater College&rsquo\;s department of music will present a holiday musical experience.<br />\nFree and open to the public&nbsp\;&nbsp\;&nbsp\;&nbsp\;&nbsp\;&nbsp\;&nbsp\;&nbsp\;&nbsp\;&nbsp\;&nbsp\;&nbsp\;&nbsp\;&nbsp\;&nbsp\;&nbsp\;<br />\n&nbsp\;
LOCATION:Bridgewater College - Cole Hall
UID:e.2338.6113
SEQUENCE:3
DTSTAMP:20260420T060505Z
URL:https://chamber.hrchamber.org/events/details/holiday-extravaganza-6113
END:VEVENT

END:VCALENDAR
