BEGIN:VCALENDAR
VERSION:2.0
PRODID:-//ChamberMaster//Event Calendar 2.0//EN
METHOD:PUBLISH
X-PUBLISHED-TTL:P3D
REFRESH-INTERVAL:P3D
CALSCALE:GREGORIAN
BEGIN:VEVENT
DTSTART:20161107T140000Z
DTEND:20161107T210000Z
X-MICROSOFT-CDO-ALLDAYEVENT:FALSE
SUMMARY:Hogwarts Express
DESCRIPTION:Muggle schools are closed so send your Harry Potter fan to Wizarding School instead! Explore herbology\, care of magical creatures\, and history of magic. Take a potions class\, play magical games and more! Each child should bring a packed lunch and one small snack.
X-ALT-DESC;FMTTYPE=text/html:Muggle schools are closed so send your Harry Potter fan to Wizarding School instead! Explore herbology\, care of magical creatures\, and history of magic. Take a potions class\, play magical games and more! Each child should bring a packed lunch and one small snack.
LOCATION:Explore More Discovery Museum 150 South Main St Harrisonburg\, VA 22801
UID:e.2338.1507
SEQUENCE:3
DTSTAMP:20260421T201251Z
URL:https://chamber.hrchamber.org/events/details/hogwarts-express-1507
END:VEVENT

END:VCALENDAR
