BEGIN:VCALENDAR
VERSION:2.0
PRODID:-//ChamberMaster//Event Calendar 2.0//EN
METHOD:PUBLISH
X-PUBLISHED-TTL:P3D
REFRESH-INTERVAL:P3D
CALSCALE:GREGORIAN
BEGIN:VEVENT
DTSTART:20160714T230000Z
DTEND:20160715T000000Z
X-MICROSOFT-CDO-ALLDAYEVENT:FALSE
SUMMARY:History of Swords & Armor @ Central Library
DESCRIPTION:The history of swords\, armor\, and fighting techniques from the fall of the Roman Empire to the Renaissance\, including a demonstration of longsword combat. This is part of the Adult Reading Program\; older youth are invited to attend.
X-ALT-DESC;FMTTYPE=text/html:The history of swords\, armor\, and fighting techniques from the fall of the Roman Empire to the Renaissance\, including a demonstration of longsword combat. This is part of the Adult Reading Program\; older youth are invited to attend.
LOCATION:Central Library
UID:e.2338.439
SEQUENCE:3
DTSTAMP:20260422T015209Z
URL:https://chamber.hrchamber.org/events/details/history-of-swords-armor-central-library-07-14-2016-439
END:VEVENT

END:VCALENDAR
