BEGIN:VCALENDAR
VERSION:2.0
PRODID:-//ChamberMaster//Event Calendar 2.0//EN
METHOD:PUBLISH
X-PUBLISHED-TTL:P3D
REFRESH-INTERVAL:P3D
CALSCALE:GREGORIAN
BEGIN:VEVENT
DTSTART:20160707T230000Z
DTEND:20160708T000000Z
X-MICROSOFT-CDO-ALLDAYEVENT:FALSE
SUMMARY:Historic Games @ Central Library
DESCRIPTION:Andrew Richardson of the Frontier Culture Museum will present a program on historic games\, including demonstration and activity time. This program is part of the Adult Reading Program\, but children are welcome to attend as well.
X-ALT-DESC;FMTTYPE=text/html:Andrew Richardson of the Frontier Culture Museum will present a program on historic games\, including demonstration and activity time. This program is part of the Adult Reading Program\, but children are welcome to attend as well.
LOCATION:Central Library
UID:e.2338.438
SEQUENCE:3
DTSTAMP:20260422T015001Z
URL:https://chamber.hrchamber.org/events/details/historic-games-central-library-07-07-2016-438
END:VEVENT

END:VCALENDAR
