BEGIN:VCALENDAR
VERSION:2.0
PRODID:-//ChamberMaster//Event Calendar 2.0//EN
METHOD:PUBLISH
X-PUBLISHED-TTL:P3D
REFRESH-INTERVAL:P3D
CALSCALE:GREGORIAN
BEGIN:VEVENT
DTSTART:20180329T210000Z
DTEND:20180329T230000Z
X-MICROSOFT-CDO-ALLDAYEVENT:FALSE
SUMMARY:Heart Walk Vendor Fair at Valley Engineering
DESCRIPTION:Valley Engineering is hosting the second annual Vendor Fair to benefit the American Heart Association Heart Walk!\n\nWe are very excited to welcome a wide variety of vendors including Lularoe\, Premier Jewelry\, Thirty-One\, Younique Cosmetics\, and many\, many more!  Admission is free and a portion of proceeds will be donated to the American Heart Association Heart Walk 2018.  See below for a complete list of vendors.  Door prizes will be given away throughout the event\, as well.  Swing by the Valley Engineering office and shop for a great cause!\n\n\n\nOur current vendors:\n\nThe Isle Co.\, LuLaRoe\, Matilda Jane\, Norwex\, Point of View Alpaca\, Premier Jewelry\, Reimagined in Va\, Scentsy\, Thirty-One Gifts\, and Younique Cosmetics!
X-ALT-DESC;FMTTYPE=text/html:<p>Valley Engineering is hosting the second annual Vendor Fair to benefit the American Heart Association Heart Walk!</p>\n\n<p>We are very excited to welcome a wide variety of vendors including Lularoe\, Premier Jewelry\, Thirty-One\, Younique Cosmetics\, and many\, many more!&nbsp\; Admission is free and a portion of proceeds will be donated to the American Heart Association Heart Walk 2018.&nbsp\; See below for a complete list of vendors.&nbsp\; Door prizes will be given away throughout the event\, as well.&nbsp\; Swing by the Valley Engineering office and shop for a great cause!<br />\n<br />\nOur current vendors:</p>\n\n<p>The Isle Co.\, LuLaRoe\, Matilda Jane\, Norwex\, Point of View Alpaca\, Premier Jewelry\, Reimagined in Va\, Scentsy\, Thirty-One Gifts\, and Younique Cosmetics!</p>\n
LOCATION:Valley Engineering 4901 Crowe Dr. Mt. Crawford\, VA 22841
UID:e.2338.4760
SEQUENCE:3
DTSTAMP:20260420T100715Z
URL:https://chamber.hrchamber.org/events/details/heart-walk-vendor-fair-at-valley-engineering-4760
END:VEVENT

END:VCALENDAR
