BEGIN:VCALENDAR
VERSION:2.0
PRODID:-//ChamberMaster//Event Calendar 2.0//EN
METHOD:PUBLISH
X-PUBLISHED-TTL:P3D
REFRESH-INTERVAL:P3D
CALSCALE:GREGORIAN
BEGIN:VEVENT
DTSTART:20190429T140000Z
DTEND:20190429T143000Z
X-MICROSOFT-CDO-ALLDAYEVENT:FALSE
SUMMARY:Hearing at Home Grand Opening and Ribbon-Cutting
DESCRIPTION:Join Hearing at Home to celebrate their new brick-and-mortar location at 52 South Willow Street in Harrisonburg! Join the Luray-Page and Harrisonburg-Rockingham Chambers as we celebrate this business's growth as they serve the hearing needs of Page County and the surrounding areas.
X-ALT-DESC;FMTTYPE=text/html:<div style="background:#eee\;border:1px solid #ccc\;padding:5px 10px\;"><br />\n<big><span style="font-size:18px\;"><strong><span style="font-family:calibri\,sans-serif\;">Join Hearing at Home to celebrate their new brick-and-mortar location at 52 South Willow Street in Harrisonburg! Join the Luray-Page and Harrisonburg-Rockingham Chambers as we celebrate this business&rsquo\;s growth as they serve the hearing needs of Page County and the surrounding areas.&nbsp\;</span></strong></span></big><br />\n&nbsp\;</div>\n
LOCATION:590 Neff Ave. Suite 4000 Harrisonburg\, VA
UID:e.2338.6525
SEQUENCE:3
DTSTAMP:20260420T002822Z
URL:https://chamber.hrchamber.org/events/details/hearing-at-home-grand-opening-and-ribbon-cutting-6525
END:VEVENT

END:VCALENDAR
