BEGIN:VCALENDAR
VERSION:2.0
PRODID:-//ChamberMaster//Event Calendar 2.0//EN
METHOD:PUBLISH
X-PUBLISHED-TTL:P3D
REFRESH-INTERVAL:P3D
CALSCALE:GREGORIAN
BEGIN:VEVENT
DTSTART:20180726T130000Z
DTEND:20180726T200000Z
X-MICROSOFT-CDO-ALLDAYEVENT:FALSE
SUMMARY:Health & Safety Smarts | Electrical Safety: NFPA70E Compliance
DESCRIPTION:Join us on Thursday\, July 12 to learn the critical steps anyone dealing with live electrical sources MUST know for general compliance\, and more importantly\, to STAY SAFE!!! Mike Saylors\, Project Manager of Safety Compliance & Training with The EI Group\, Inc.\, will be training on the following critical topics:\n\n1. Scope of Electrical Work Practices\n\n2. Qualified/unqualified employee requirements\n\n3. Job briefings\n\n4. Selection and Use of Work Practices\n\n5. Lock-Out / Tag-Out\n\n6. Working on or Near Exposed Energized Parts\n\n7. Safeguards for personnel protection\n\n8. Risk Assessment/Hierarchy of Controls\n\n9. Approach boundaries (Shock)\n\n10. Arc flash protection boundary\n\n11. Personal protective equipment\n\n12. Use of Test Equipment\n\n13. Care and maintenance of AR clothing\n\n14. Safety signs and tags\n\n15. OSHA 1910.331-335 General Industry Standard Requirements\n\n16. Electrical Hazards-Shock\, Arc Flash\, Arc Blast\, and Secondary hazards\n\n17. NFPA 70E 2018 changes/updates\n\nIn order to cover the cost of this session while keeping each individual registration price at a minimum\, we will be unable to offer refunds. However\, registrations will be transferable in the event an organization needs to make last minute changes based on who they have attending.
X-ALT-DESC;FMTTYPE=text/html:<p style="color: rgb(53\, 54\, 56)\; font-size: 15px\; margin: 0px 0px 20px\; line-height: 25px\; opacity: 0.9\; font-family: &quot\;Open Sans&quot\;\, sans-serif\;">Join us on Thursday\, July 12 to learn the critical steps anyone dealing with live electrical sources MUST know for general compliance\, and more importantly\, to STAY SAFE!!!&nbsp\;<strong>Mike Saylors</strong>\, Project Manager of Safety Compliance &amp\; Training with&nbsp\;<em>The EI Group\, Inc.</em>\, will be training on the following critical topics:</p>\n\n<p style="color: rgb(53\, 54\, 56)\; font-size: 15px\; margin: 0px 0px 20px\; line-height: 25px\; opacity: 0.9\; font-family: &quot\;Open Sans&quot\;\, sans-serif\;">1. Scope of Electrical Work Practices</p>\n\n<p style="color: rgb(53\, 54\, 56)\; font-size: 15px\; margin: 0px 0px 20px\; line-height: 25px\; opacity: 0.9\; font-family: &quot\;Open Sans&quot\;\, sans-serif\;">2. Qualified/unqualified employee requirements</p>\n\n<p style="color: rgb(53\, 54\, 56)\; font-size: 15px\; margin: 0px 0px 20px\; line-height: 25px\; opacity: 0.9\; font-family: &quot\;Open Sans&quot\;\, sans-serif\;">3. Job briefings</p>\n\n<p style="color: rgb(53\, 54\, 56)\; font-size: 15px\; margin: 0px 0px 20px\; line-height: 25px\; opacity: 0.9\; font-family: &quot\;Open Sans&quot\;\, sans-serif\;">4. Selection and Use of Work Practices</p>\n\n<p style="color: rgb(53\, 54\, 56)\; font-size: 15px\; margin: 0px 0px 20px\; line-height: 25px\; opacity: 0.9\; font-family: &quot\;Open Sans&quot\;\, sans-serif\;">5. Lock-Out / Tag-Out</p>\n\n<p style="color: rgb(53\, 54\, 56)\; font-size: 15px\; margin: 0px 0px 20px\; line-height: 25px\; opacity: 0.9\; font-family: &quot\;Open Sans&quot\;\, sans-serif\;">6. Working on or Near Exposed Energized Parts</p>\n\n<p style="color: rgb(53\, 54\, 56)\; font-size: 15px\; margin: 0px 0px 20px\; line-height: 25px\; opacity: 0.9\; font-family: &quot\;Open Sans&quot\;\, sans-serif\;">7. Safeguards for personnel protection</p>\n\n<p style="color: rgb(53\, 54\, 56)\; font-size: 15px\; margin: 0px 0px 20px\; line-height: 25px\; opacity: 0.9\; font-family: &quot\;Open Sans&quot\;\, sans-serif\;">8. Risk Assessment/Hierarchy of Controls</p>\n\n<p style="color: rgb(53\, 54\, 56)\; font-size: 15px\; margin: 0px 0px 20px\; line-height: 25px\; opacity: 0.9\; font-family: &quot\;Open Sans&quot\;\, sans-serif\;">9. Approach boundaries (Shock)</p>\n\n<p style="color: rgb(53\, 54\, 56)\; font-size: 15px\; margin: 0px 0px 20px\; line-height: 25px\; opacity: 0.9\; font-family: &quot\;Open Sans&quot\;\, sans-serif\;">10. Arc flash protection boundary</p>\n\n<p style="color: rgb(53\, 54\, 56)\; font-size: 15px\; margin: 0px 0px 20px\; line-height: 25px\; opacity: 0.9\; font-family: &quot\;Open Sans&quot\;\, sans-serif\;">11. Personal protective equipment</p>\n\n<p style="color: rgb(53\, 54\, 56)\; font-size: 15px\; margin: 0px 0px 20px\; line-height: 25px\; opacity: 0.9\; font-family: &quot\;Open Sans&quot\;\, sans-serif\;">12. Use of Test Equipment</p>\n\n<p style="color: rgb(53\, 54\, 56)\; font-size: 15px\; margin: 0px 0px 20px\; line-height: 25px\; opacity: 0.9\; font-family: &quot\;Open Sans&quot\;\, sans-serif\;">13. Care and maintenance of AR clothing</p>\n\n<p style="color: rgb(53\, 54\, 56)\; font-size: 15px\; margin: 0px 0px 20px\; line-height: 25px\; opacity: 0.9\; font-family: &quot\;Open Sans&quot\;\, sans-serif\;">14. Safety signs and tags</p>\n\n<p style="color: rgb(53\, 54\, 56)\; font-size: 15px\; margin: 0px 0px 20px\; line-height: 25px\; opacity: 0.9\; font-family: &quot\;Open Sans&quot\;\, sans-serif\;">15. OSHA 1910.331-335 General Industry Standard Requirements</p>\n\n<p style="color: rgb(53\, 54\, 56)\; font-size: 15px\; margin: 0px 0px 20px\; line-height: 25px\; opacity: 0.9\; font-family: &quot\;Open Sans&quot\;\, sans-serif\;">16. Electrical Hazards-Shock\, Arc Flash\, Arc Blast\, and Secondary hazards</p>\n\n<p style="color: rgb(53\, 54\, 56)\; font-size: 15px\; margin: 0px 0px 20px\; line-height: 25px\; opacity: 0.9\; font-family: &quot\;Open Sans&quot\;\, sans-serif\;">17. NFPA 70E 2018 changes/updates</p>\n\n<p style="color: rgb(53\, 54\, 56)\; font-size: 15px\; margin: 0px 0px 20px\; line-height: 25px\; opacity: 0.9\; font-family: &quot\;Open Sans&quot\;\, sans-serif\;">In order to cover the cost of this session while keeping each individual registration price at a minimum\, we will be unable to offer refunds. However\, registrations will be transferable in the event an organization needs to make last minute changes based on who they have attending.</p>\n
LOCATION:Room 206 American National University 1515 Country Club Road Harrisonburg
UID:e.2338.5860
SEQUENCE:3
DTSTAMP:20260420T134236Z
URL:https://chamber.hrchamber.org/events/details/health-safety-smarts-electrical-safety-nfpa70e-compliance-5860
END:VEVENT

END:VCALENDAR
