BEGIN:VCALENDAR
VERSION:2.0
PRODID:-//ChamberMaster//Event Calendar 2.0//EN
METHOD:PUBLISH
X-PUBLISHED-TTL:P3D
REFRESH-INTERVAL:P3D
CALSCALE:GREGORIAN
BEGIN:VEVENT
DTSTART:20160730T170000Z
DTEND:20160730T180000Z
X-MICROSOFT-CDO-ALLDAYEVENT:FALSE
SUMMARY:Harry Potter Birthday Party @ Central Library
DESCRIPTION:Celebrate everyone's favorite wizard! Try out the sorting hat\, make your own wand\, eat some wizard snacks\, plus more! Costumes encouraged\, but not required.
X-ALT-DESC;FMTTYPE=text/html:Celebrate everyone&#39\;s favorite wizard! Try out the sorting hat\, make your own wand\, eat some wizard snacks\, plus more! Costumes encouraged\, but not required.
LOCATION:Central Library\, 174 S. Main Street\, Harrisonburg
UID:e.2338.471
SEQUENCE:3
DTSTAMP:20260422T015210Z
URL:https://chamber.hrchamber.org/events/details/harry-potter-birthday-party-central-library-07-30-2016-471
END:VEVENT

END:VCALENDAR
