BEGIN:VCALENDAR
VERSION:2.0
PRODID:-//ChamberMaster//Event Calendar 2.0//EN
METHOD:PUBLISH
X-PUBLISHED-TTL:P3D
REFRESH-INTERVAL:P3D
CALSCALE:GREGORIAN
BEGIN:VEVENT
DTSTART:20171021T130000Z
DTEND:20171021T153000Z
X-MICROSOFT-CDO-ALLDAYEVENT:FALSE
SUMMARY:Harrisonburg Walk to End Alzheimer's
DESCRIPTION:Held annually in more than 600 communities nationwide\, the Alzheimer's Association Walk to End Alzheimer's  is the world's largest event to raise awareness and funds for Alzheimer's care\, support and research. This inspiring event calls on participants of all ages and abilities to join the fight against the disease!
X-ALT-DESC;FMTTYPE=text/html:Held annually in more than 600 communities nationwide\, the Alzheimer&#39\;s Association Walk to End Alzheimer&rsquo\;s&reg\; is the world&rsquo\;s largest event to raise awareness and funds for Alzheimer&rsquo\;s care\, support and research. This inspiring event calls on participants of all ages and abilities to join the fight against the disease!
LOCATION:4808 S Valley Pike Harrisonburg\, VA 22801 Rockingham County Fairgrounds
UID:e.2338.3223
SEQUENCE:3
DTSTAMP:20260420T041910Z
URL:https://chamber.hrchamber.org/events/details/harrisonburg-walk-to-end-alzheimer-s-3223
END:VEVENT

END:VCALENDAR
