BEGIN:VCALENDAR
VERSION:2.0
PRODID:-//ChamberMaster//Event Calendar 2.0//EN
METHOD:PUBLISH
X-PUBLISHED-TTL:P3D
REFRESH-INTERVAL:P3D
CALSCALE:GREGORIAN
BEGIN:VEVENT
DTSTART:20191210T223000Z
DTEND:20191211T010000Z
X-MICROSOFT-CDO-ALLDAYEVENT:FALSE
SUMMARY:Harrisonburg's Largest Office Holiday Party
DESCRIPTION:Bring your team to the largest office holiday party in Harrisonburg at Hotel Madison. DJ\, photo booth\, games and more! Local businesses - this is a great opportunity to mix\, mingle & jingle with other area businesses!\n\nTicket price includes heavy hors-d'oeuvres and desserts\, first 2 drinks and lots of fun! Cash bar will be available for additional beverages.\n\n\n\nTo get tickets : https://www.eventbrite.com/e/harrisonburgs-largest-holiday-office-party-tickets-77394712669?aff=ebdssbdestsearch
X-ALT-DESC;FMTTYPE=text/html:<p style="color: rgb(111\, 114\, 135)\; font-family: &quot\;Neue Plak&quot\;\, -apple-system\, BlinkMacSystemFont\, Roboto\, &quot\;Helvetica Neue&quot\;\, Helvetica\, Tahoma\, Arial\, sans-serif\; font-size: 16px\; font-variant-numeric: normal\; font-variant-east-asian: normal\; letter-spacing: 0.5px\; line-height: 1.5rem\; margin: 0px\; padding: 0px\;">Bring your team to the largest office holiday party in Harrisonburg at Hotel Madison. DJ\, photo booth\, games and more! Local businesses - this is a great opportunity to mix\, mingle &amp\; jingle with other area businesses!</p>\n\n<p style="color: rgb(111\, 114\, 135)\; font-family: &quot\;Neue Plak&quot\;\, -apple-system\, BlinkMacSystemFont\, Roboto\, &quot\;Helvetica Neue&quot\;\, Helvetica\, Tahoma\, Arial\, sans-serif\; font-size: 16px\; font-variant-numeric: normal\; font-variant-east-asian: normal\; letter-spacing: 0.5px\; line-height: 1.5rem\; margin: 0px\; padding: 10px 0px 0px\;">Ticket price includes heavy hors-d&#39\;oeuvres and desserts\, first 2 drinks and lots of fun! Cash bar will be available for additional beverages.<br />\n<br />\nTo get tickets :&nbsp\;<span style="font-family:calibri\,sans-serif\;"><span style="font-size:11.0pt\;"><a href="https://www.eventbrite.com/e/harrisonburgs-largest-holiday-office-party-tickets-77394712669?aff=ebdssbdestsearch">https://www.eventbrite.com/e/harrisonburgs-largest-holiday-office-party-tickets-77394712669?aff=ebdssbdestsearch</a></span></span><br />\n&nbsp\;</p>\n
LOCATION:Hotel Madison & Shenandoah Valley Conference Center 710 S Main Street Harrisonburg\, VA 22801
UID:e.2338.8213
SEQUENCE:3
DTSTAMP:20260419T122201Z
URL:https://chamber.hrchamber.org/events/details/harrisonburg-s-largest-office-holiday-party-8213
END:VEVENT

END:VCALENDAR
