BEGIN:VCALENDAR
VERSION:2.0
PRODID:-//ChamberMaster//Event Calendar 2.0//EN
METHOD:PUBLISH
X-PUBLISHED-TTL:P3D
REFRESH-INTERVAL:P3D
CALSCALE:GREGORIAN
BEGIN:VEVENT
DTSTART:20181218T213000Z
DTEND:20181219T003000Z
X-MICROSOFT-CDO-ALLDAYEVENT:FALSE
SUMMARY:Harrisonburg's Largest Office Holiday Party
DESCRIPTION:Celebrate the most wonderful time of the year in good company!\n\n\n\nLeave the planning\, cooking and clean up to us so that you can celebrate with your team! Bring your office to the largest office holiday party in Harrisonburg. DJ\, photo booth\, games and more!\n\n\n\nIndependent consultants\, telecommuters and small business owners - this is a great opportunity to mix & mingle with new people you may not typically come across. We would love you to join in on the festivities. \n\n\n\nTICKETS & PACKAGES: Ticket price includes heavy hors-d'oeuvres\, one drink and lots of fun. Cash bar night-of with drink packages available pre-event. \n\nBuy your tickets on Eventbrite for $40 per person.\n\n\n\nFor group package prices or sponsorship information\, call Hotel Madison's Director of Sales\, Judy Wilbur at 540-214-2283.
X-ALT-DESC;FMTTYPE=text/html:<span style="color:black"><span style="font-family:helvetica\,sans-serif"><span style="font-size:10.0pt">Celebrate the most wonderful time of the year in good company!</span></span></span><br />\n<br />\n<span style="color:black"><span style="font-family:helvetica\,sans-serif"><span style="font-size:10.0pt">Leave the planning\, cooking and clean up to us so that you can celebrate with your team! Bring your office to the largest office holiday party in Harrisonburg. DJ\, photo booth\, games and more!</span></span></span><br />\n<br />\n<span style="color:black"><span style="font-family:helvetica\,sans-serif"><span style="font-size:10.0pt">Independent consultants\, telecommuters and small business owners - this is a great opportunity to mix &amp\; mingle with new people you may not typically come across. We would love you to join in on the festivities. </span></span></span><br />\n<br />\n<span style="color:black"><span style="font-family:helvetica\,sans-serif"><span style="font-size:10.0pt">TICKETS &amp\; PACKAGES: Ticket price includes heavy hors-d&#39\;oeuvres\, one drink and lots of fun. Cash bar night-of with drink packages available pre-event. </span></span></span><br />\n<span style="font-family:helvetica\,sans-serif"><span style="font-size:10.0pt"><a href="https://www.eventbrite.com/e/harrisonburgs-largest-office-holiday-party-tickets-52238802665">Buy your tickets on Eventbrite</a></span></span><span style="color:black"><span style="font-family:helvetica\,sans-serif"><span style="font-size:10.0pt"> for $40 per person.</span></span></span><br />\n<br />\n<span style="color:black"><span style="font-family:helvetica\,sans-serif"><span style="font-size:10.0pt">For group package prices or sponsorship information\, call Hotel Madison&rsquo\;s Director of Sales\, Judy Wilbur at 540-214-2283.</span></span></span>
LOCATION:Hotel Madison & Shenandoah Valley Conference Center 710 S Main Street Harrisonburg\, VA 22801
UID:e.2338.6112
SEQUENCE:3
DTSTAMP:20260420T061316Z
URL:https://chamber.hrchamber.org/events/details/harrisonburg-s-largest-office-holiday-party-6112
END:VEVENT

END:VCALENDAR
