BEGIN:VCALENDAR
VERSION:2.0
PRODID:-//ChamberMaster//Event Calendar 2.0//EN
METHOD:PUBLISH
X-PUBLISHED-TTL:P3D
REFRESH-INTERVAL:P3D
CALSCALE:GREGORIAN
BEGIN:VEVENT
DTSTART:20180303T150000Z
DTEND:20180303T220000Z
X-MICROSOFT-CDO-ALLDAYEVENT:FALSE
SUMMARY:Harrisonburg's Annual Gear Swap Hosted By Bluestone Bike & Run
DESCRIPTION:Make room in your garage\, while putting money in your pocket! Bring Bluestone Bike & Run your used biking\, running\, and other outdoor gear and we'll put it out to sell on Saturday\, March 3. Complete bikes\, shoes\, car racks\, apparel\, bike parts and accessories.... the list goes on and on. (The items can be any brand\, but we do have the right to turn away items that may be unsafe or "overly used".) You don't need to be present to sell your item(s) we'll do it for you. (When you drop off your item(s) you'll let us know the price\, or we can help you set a price.) At the end of the day we'll tally your sold items and let you have the option to receive it all back in store credit or 70% of the sales total back in the form of a check. Start collecting your gear now! We'll accept it anytime from February 17 - March 2. Quality Used Gear From Brands You Trust: Cannondale Patagonia Northface Endura Giro Brooks Saucony Thule Hoka And so much more!
X-ALT-DESC;FMTTYPE=text/html:Make room in your garage\, while putting money in your pocket! Bring Bluestone Bike &amp\; Run your used biking\, running\, and other outdoor gear and we&rsquo\;ll put it out to sell on Saturday\, March 3. Complete bikes\, shoes\, car racks\, apparel\, bike parts and accessories.... the list goes on and on. (The items can be any brand\, but we do have the right to turn away items that may be unsafe or &ldquo\;overly used&rdquo\;.) You don&rsquo\;t need to be present to sell your item(s) we&rsquo\;ll do it for you. (When you drop off your item(s) you&rsquo\;ll let us know the price\, or we can help you set a price.) At the end of the day we&rsquo\;ll tally your sold items and let you have the option to receive it all back in store credit or 70% of the sales total back in the form of a check. Start collecting your gear now! We&rsquo\;ll accept it anytime from February 17 - March 2. Quality Used Gear From Brands You Trust: Cannondale Patagonia Northface Endura Giro Brooks Saucony Thule Hoka And so much more!
LOCATION:Bluestone Bike & Run 1570 S. Main St. Harrisonburg\, VA 22801
UID:e.2338.3635
SEQUENCE:3
DTSTAMP:20260420T114314Z
URL:https://chamber.hrchamber.org/events/details/harrisonburg-s-annual-gear-swap-hosted-by-bluestone-bike-run-3635
END:VEVENT

END:VCALENDAR
