BEGIN:VCALENDAR
VERSION:2.0
PRODID:-//ChamberMaster//Event Calendar 2.0//EN
METHOD:PUBLISH
X-PUBLISHED-TTL:P3D
REFRESH-INTERVAL:P3D
CALSCALE:GREGORIAN
BEGIN:VEVENT
DTSTART;VALUE=DATE:20171219
DTEND;VALUE=DATE:20171220
TRANSP:TRANSPARENT
X-MICROSOFT-CDO-ALLDAYEVENT:TRUE
SUMMARY:Harrisonburg Rockingham Concert Band - Habitat for Humanity
DESCRIPTION:The Harrisonburg Rockingham Concert Band will hold a concert on December 19\, 2017 at 7:30 to benefit Central Valley Habitat for Humanity and families in need of affordable housing. This concert will be held at Wilbur Pence Middle School in Dayton\, VA and will be an opportunity to hear beautiful music and more about the families that have been selected for housing projects.
X-ALT-DESC;FMTTYPE=text/html:<span style="font-size:26px\;">The Harrisonburg Rockingham Concert Band will hold a concert on December 19\, 2017 at 7:30 to benefit Central Valley Habitat for Humanity and families in need of affordable housing. This concert will be held at Wilbur Pence Middle School in Dayton\, VA and will be an opportunity to hear beautiful music and more about the families that have been selected for housing projects.&nbsp\;</span>
LOCATION:
UID:e.2338.3353
SEQUENCE:3
DTSTAMP:20260420T055307Z
URL:https://chamber.hrchamber.org/events/details/harrisonburg-rockingham-concert-band-habitat-for-humanity-3353
END:VEVENT

END:VCALENDAR
