BEGIN:VCALENDAR
VERSION:2.0
PRODID:-//ChamberMaster//Event Calendar 2.0//EN
METHOD:PUBLISH
X-PUBLISHED-TTL:P3D
REFRESH-INTERVAL:P3D
CALSCALE:GREGORIAN
BEGIN:VEVENT
DTSTART;VALUE=DATE:20180305
DTEND;VALUE=DATE:20180312
TRANSP:TRANSPARENT
X-MICROSOFT-CDO-ALLDAYEVENT:TRUE
SUMMARY:Harrisonburg Restaurant Week
DESCRIPTION:Experience the culinary scene that everyone is raving about! \n\n\n\nDuring this week-long event\, restaurants in Harrisonburg\, VA will come together to showcase their talent and creativity by serving up fresh\, innovative menus\; one-of-a-kind restaurant collaborations\; chef expos\, and culinary events.
X-ALT-DESC;FMTTYPE=text/html:<span style="color:rgb(75\, 79\, 86)\; font-family:sf optimized\,system-ui\,-apple-system\,system-ui\,.sfnstext-regular\,sans-serif\; font-size:14px">Experience the culinary scene that everyone is raving about!&nbsp\;</span><br />\n<br />\n<span style="color:rgb(75\, 79\, 86)\; font-family:sf optimized\,system-ui\,-apple-system\,system-ui\,.sfnstext-regular\,sans-serif\; font-size:14px">During this week-long event\, restaurants in Harrisonburg\, VA will come together to showcase their talent and creativity by serving up fresh\, innovative menus\; one-of-a-kind restaurant collaborations\; chef expos\, and culinary events.</span>
LOCATION:Varies per restaurant.
UID:e.2338.3646
SEQUENCE:3
DTSTAMP:20260420T100552Z
URL:https://chamber.hrchamber.org/events/details/harrisonburg-restaurant-week-3646
END:VEVENT

END:VCALENDAR
