BEGIN:VCALENDAR
VERSION:2.0
PRODID:-//ChamberMaster//Event Calendar 2.0//EN
METHOD:PUBLISH
X-PUBLISHED-TTL:P3D
REFRESH-INTERVAL:P3D
CALSCALE:GREGORIAN
BEGIN:VEVENT
DTSTART:20180315T210000Z
DTEND:20180315T230000Z
X-MICROSOFT-CDO-ALLDAYEVENT:FALSE
SUMMARY:Harrisonburg OB/GYN ·Business After Hours
DESCRIPTION:
X-ALT-DESC;FMTTYPE=text/html:
LOCATION:2291 Evelyn Byrd Ave Harrisonburg\, VA 22801
UID:e.2338.3507
SEQUENCE:3
DTSTAMP:20260420T100838Z
URL:https://chamber.hrchamber.org/events/details/harrisonburg-ob-gyn-business-after-hours-3507
END:VEVENT

END:VCALENDAR
