BEGIN:VCALENDAR
VERSION:2.0
PRODID:-//ChamberMaster//Event Calendar 2.0//EN
METHOD:PUBLISH
X-PUBLISHED-TTL:P3D
REFRESH-INTERVAL:P3D
CALSCALE:GREGORIAN
BEGIN:VEVENT
DTSTART:20190217T000000Z
DTEND:20190217T040000Z
X-MICROSOFT-CDO-ALLDAYEVENT:FALSE
SUMMARY:Harrisonburg Education Foundation's 8th Annual Gala
DESCRIPTION:The Harrisonburg Education Foundation is pleased to present its 8th annual gala A Night of Enchantment\,  a masquerade ball to raise funds for the students and teachers of the Harrisonburg City Public Schools! On February 16\, you will be transported to a mystical garden of intrigue and mystery...what better way to celebrate Valentine's Day\, have a good time and support our bright stars of tomorrow! Tickets are available now!
X-ALT-DESC;FMTTYPE=text/html:<span style="color:black"><span style="font-family:arial\,sans-serif"><span style="font-size:13.5pt">The&nbsp\;Harrisonburg&nbsp\;Education Foundation is pleased to present its 8th annual gala&nbsp\;<strong><span style="font-family:arial\,sans-serif">A Night of Enchantment\,&nbsp\;</span></strong>&nbsp\;a masquerade&nbsp\;ball to raise funds for the students and teachers of the Harrisonburg City Public Schools! On February 16\, you will be transported to a mystical garden of intrigue and mystery...<u>what better way to celebrate Valentine&#39\;s Day</u>\, have a good time and support our bright stars of tomorrow! Tickets are available now!</span></span></span>
LOCATION:The Hotel Madison\, 710 South Main St.\, Harrisonburg\, VA 22801
UID:e.2338.6286
SEQUENCE:3
DTSTAMP:20260420T030654Z
URL:https://chamber.hrchamber.org/events/details/harrisonburg-education-foundation-s-8th-annual-gala-6286
END:VEVENT

END:VCALENDAR
