BEGIN:VCALENDAR
VERSION:2.0
PRODID:-//ChamberMaster//Event Calendar 2.0//EN
METHOD:PUBLISH
X-PUBLISHED-TTL:P3D
REFRESH-INTERVAL:P3D
CALSCALE:GREGORIAN
BEGIN:VEVENT
DTSTART:20160611T230000Z
DTEND:20160612T003000Z
X-MICROSOFT-CDO-ALLDAYEVENT:FALSE
SUMMARY:Harrisonburg Dance Cooperative presents (un)Moved
DESCRIPTION:Harrisonburg Dance Cooperative presents their first mainstage dance performance at Court Square Theatre. Through diverse styles\, each piece of original choreography in (un)Moved seeks to understand the joy\, loss\, conflict\, and renewal that accompany both life?s changes and the desire to stay the same. (This show is appropriate for audiences of all ages.) Tickets $10
X-ALT-DESC;FMTTYPE=text/html:Harrisonburg Dance Cooperative presents their first mainstage dance performance at Court Square Theatre. Through diverse styles\, each piece of original choreography in (un)Moved seeks to understand the joy\, loss\, conflict\, and renewal that accompany both life?s changes and the desire to stay the same. (This show is appropriate for audiences of all ages.) Tickets $10
LOCATION:Court Square Theatre 41 Court Square Harrisonburg VA 22801
UID:e.2338.399
SEQUENCE:3
DTSTAMP:20260422T032416Z
URL:https://chamber.hrchamber.org/events/details/harrisonburg-dance-cooperative-presents-un-moved-06-11-2016-399
END:VEVENT

END:VCALENDAR
